BEGIN:VCALENDAR
VERSION:2.0
PRODID:-//Patriot Guard Riders - ECPv5.3.2.1//NONSGML v1.0//EN
CALSCALE:GREGORIAN
METHOD:PUBLISH
X-WR-CALNAME:Patriot Guard Riders
X-ORIGINAL-URL:https://www.patriotguard.org
X-WR-CALDESC:Events for Patriot Guard Riders
BEGIN:VTIMEZONE
TZID:America/New_York
BEGIN:DAYLIGHT
TZOFFSETFROM:-0500
TZOFFSETTO:-0400
TZNAME:EDT
DTSTART:20190310T070000
END:DAYLIGHT
BEGIN:STANDARD
TZOFFSETFROM:-0400
TZOFFSETTO:-0500
TZNAME:EST
DTSTART:20191103T060000
END:STANDARD
END:VTIMEZONE
BEGIN:VEVENT
DTSTART;VALUE=DATE:20190715
DTEND;VALUE=DATE:20190716
DTSTAMP:20210404T033549
CREATED:20190713T211347Z
LAST-MODIFIED:20190713T211347Z
UID:167568-1563148800-1563235199@www.patriotguard.org
SUMMARY:Timothy w.E. Loving
DESCRIPTION:Honor Mission\nTimothy w.E. Loving\, Veteran\nUSA USN –\nShelbyville\, Kentucky – 07-15-19\n\n\n\nABOUT THE MISSION: \nWe have been asked by the family of Mr Loving\, US Army and Navy Veteran\, to stand a flag line and escort him to his final resting place. We will stand in his Honor.\n\n\nPRIMARY STAGING DETAILS: 07-15-19 \nStaging Time: 09:45 AM\n \nClay St Baptist Church\n1940 Midland Trail\nShelbyville\, Kentucky 40065\n\n\nRide Captain: \nRick Long\n502-320-4382\n\n\nSpecial Instructions: \nStage: 9:45\nFlag Line: 10:00\nService: 11:00\nEscort: Following service to Calvary Cemetery\, N 7th St. in Shelbyville\, Ky 40065.\n\n\nFlags & Water:\nFlags will be provided\nIf you have large bike flags\, please bring them.\nWater WILL NOT be provided\, please bring your own.\n\n\n\nSubmitted By: Thomas Baker \nPosition: Kentucky Ride Captain \n\nNote: You do not have to own/ride a motorcycle or be a veteran to join\, and membership is Free. The only requirement is RESPECT! To subscribe to receive mission notices\, log into the National Site and click on the Members tab at the top. Select the Subscribe to PGR Missions option.\n Print This Page
URL:https://www.patriotguard.org/mission/timothy-w-e-loving/
CATEGORIES:Honor Mission
END:VEVENT
END:VCALENDAR