BEGIN:VCALENDAR
VERSION:2.0
PRODID:-//Patriot Guard Riders - ECPv5.3.2.1//NONSGML v1.0//EN
CALSCALE:GREGORIAN
METHOD:PUBLISH
X-WR-CALNAME:Patriot Guard Riders
X-ORIGINAL-URL:https://www.patriotguard.org
X-WR-CALDESC:Events for Patriot Guard Riders
BEGIN:VTIMEZONE
TZID:America/New_York
BEGIN:DAYLIGHT
TZOFFSETFROM:-0500
TZOFFSETTO:-0400
TZNAME:EDT
DTSTART:20190310T070000
END:DAYLIGHT
BEGIN:STANDARD
TZOFFSETFROM:-0400
TZOFFSETTO:-0500
TZNAME:EST
DTSTART:20191103T060000
END:STANDARD
END:VTIMEZONE
BEGIN:VEVENT
DTSTART;VALUE=DATE:20190826
DTEND;VALUE=DATE:20190827
DTSTAMP:20210402T090655
CREATED:20190824T180819Z
LAST-MODIFIED:20190824T180819Z
UID:171805-1566777600-1566863999@www.patriotguard.org
SUMMARY:Timothy Scott Woods Jr.
DESCRIPTION:Honor Mission\nTimothy Scott Woods Jr.\, Active Duty\nUSA –\nCharlotte\, North Carolina – 08-26-19\n\n\n\nABOUT THE MISSION: \nPatriots\, the family of Sergeant Timothy Scott Woods Jr. (26) has asked the Patriot Guard to stand for him as he stood for us. While on active duty stationed in Alaska he was tragically killed while riding his motorcycle. During his service for our country Sgt. Woods earned the following: Army Commendation Medal w/”C” Device\, Army Achievement Medal (3 Awards)\, Valorous Unit Award\, Army Good Conduct Medal (two awards)\, Global War on Terrorism Service Medal\, Army Service Ribbon and Combat Infantry Badge.\n\n\nPRIMARY STAGING DETAILS: 08-26-19 \nStaging Time: 11:50 AM\n \nCharlotte International Airport\, Cell phone lot 1\nJosh Birmingham Pkwy\nCharlotte\, North Carolina\nMap\n\n\nRide Captain: \nCW”Snapshot”Smith\nCws68@yahoo.com\n704-690-3119\n\n\nSpecial Instructions: \nBriefing: 12:10 pm. MANDATORY to ride in escort.\nKSU Approximately: 1:00 pm\nAfter briefing we will wait for airplane to arrive with our hero and escort Sgt. Woods approx. 110 miles to Virginia border to exit one (Loves Travel Stop) where we can refuel & meet the Virginia PGR to take him home the rest of the way.\nIf you wish to continue with the Va. PGR you are welcome to do so to final destination in Salem Va.\n**SPECIAL NOTE** Before arrival to airport have your gas tanks full and expect no stops till our destination at the Virginia border.\n\n\nFlags & Water:\nFlags will be provided\nIf you have large bike flags\, please bring them.\nWater will be provided.\n\n\n\nSubmitted By: cw smith \nPosition: North Carolina Ride Captain \n\nNote: You do not have to own/ride a motorcycle or be a veteran to join\, and membership is Free. The only requirement is RESPECT! To subscribe to receive mission notices\, log into the National Site and click on the Members tab at the top. Select the Subscribe to PGR Missions option.\n Print This Page
URL:https://www.patriotguard.org/mission/timothy-scott-woods-jr/
CATEGORIES:Honor Mission
END:VEVENT
END:VCALENDAR