BEGIN:VCALENDAR
VERSION:2.0
PRODID:-//Patriot Guard Riders - ECPv5.3.2.1//NONSGML v1.0//EN
CALSCALE:GREGORIAN
METHOD:PUBLISH
X-WR-CALNAME:Patriot Guard Riders
X-ORIGINAL-URL:https://www.patriotguard.org
X-WR-CALDESC:Events for Patriot Guard Riders
BEGIN:VTIMEZONE
TZID:America/New_York
BEGIN:DAYLIGHT
TZOFFSETFROM:-0500
TZOFFSETTO:-0400
TZNAME:EDT
DTSTART:20190310T070000
END:DAYLIGHT
BEGIN:STANDARD
TZOFFSETFROM:-0400
TZOFFSETTO:-0500
TZNAME:EST
DTSTART:20191103T060000
END:STANDARD
END:VTIMEZONE
BEGIN:VEVENT
DTSTART;VALUE=DATE:20190827
DTEND;VALUE=DATE:20190829
DTSTAMP:20210402T084043
CREATED:20190824T222921Z
LAST-MODIFIED:20190824T222921Z
UID:171762-1566864000-1567036799@www.patriotguard.org
SUMMARY:Timothy Scott Woods II
DESCRIPTION:Honor Mission\nSgt. Timothy Scott Woods II\, Active Duty\nUSA – WoT\nMULTI-CITY\, Virginia – 08-27-19\n\n\n\nABOUT THE MISSION: \nSergeant Timothy Scott Woods II served this great nation and our freedoms in the United States Army Airborne division. Sergeant Woods was active duty and had served in Afghanistan. However\, he was not on duty at the time of his passing.\n\n\nPRIMARY STAGING DETAILS: 08-27-19 \nStaging Time: 5:15 PM\n \nJohn M. Oakey & Son Funeral Chapel\n305 Roanoke Blvd.\nSalem\, Virginia 24153\n\n\nRide Captain: \nChris Bishop\npgrcbishop@yahoo.com\n\n\nSpecial Instructions: \nStage / briefing will be at 5:15.\nWe will establish our flag line at 5:30 for visitation from 6 to 8 pm.\nPlease bring your 3 foot by 5 foot pole mounted flags\, if you have them.\nChris will have a few extra flags on hand if needed.\n\n\nFlags & Water:\nFlags will not be provided\nLarge Bike Flags will NOT be needed.\nWater WILL NOT be provided\, please bring your own.\n\nSTAGING #2 DETAILS: 08-28-19 \nStaging Time: 10:15 AM\n \nJohn M. Oakey & Son\n305 Roanoke Blvd.\nSalem\, Virginia 24153\n\n\nRide Captain: \nJames Wampler\njamie.wampler@virginiapatriotguard.org\n\n\nSpecial Instructions: \nStage / briefing will take place at 10:15.\nWe will establish our flag line at the funeral home at 10:30 for services at 11.\nUpon beginning of the service\, we will stand down and prepare for escort to Southwest Virginia Veterans cemetery in Dublin.\nWe will have several extra flags on hand\, if needed.\n\n\nFlags & Water:\nFlags will not be provided\nIf you have large bike flags\, please bring them.\nWater WILL NOT be provided\, please bring your own.\n\nSTAGING #3 DETAILS: 08-28-19 \nStaging Time: 1:00 PM\n \nSouthwest Virginia Veterans Cemetery\n5550 Bagging Plant Rd.\nDublin\, Virginia 24084\n\n\nRide Captain: \nJames Wampler\nJamie.wampler@virginiapatriotguard.org\n\n\nSpecial Instructions: \nIf you plan to fly a bike mounted flag in escort\, please ensure that it is secure for road speed.\nUpon arriving at the Veterans Cemetery in Dublin\, we will immediately proceed to the visitors pavilion and establish our flag line parallel to the sidewalk.\nAgain\, we will have several extra flags on hand. However\, please bring your three-by-five pole-mounted flags\, if you have them.\nAlso\, please monitor the weather and hydrate yourselves appropriately.\n\n\nFlags & Water:\nFlags will not be provided\nIf you have large bike flags\, please bring them.\nWater WILL NOT be provided\, please bring your own.\n\n\n\nSubmitted By: James Wampler \nPosition: Virginia Assistant State Captain \n\nNote: You do not have to own/ride a motorcycle or be a veteran to join\, and membership is Free. The only requirement is RESPECT! To subscribe to receive mission notices\, log into the National Site and click on the Members tab at the top. Select the Subscribe to PGR Missions option.\n Print This Page
URL:https://www.patriotguard.org/mission/timothy-scott-woods-ii/
CATEGORIES:Honor Mission
END:VEVENT
END:VCALENDAR