BEGIN:VCALENDAR
VERSION:2.0
PRODID:-//Patriot Guard Riders - ECPv5.3.2.1//NONSGML v1.0//EN
CALSCALE:GREGORIAN
METHOD:PUBLISH
X-WR-CALNAME:Patriot Guard Riders
X-ORIGINAL-URL:https://www.patriotguard.org
X-WR-CALDESC:Events for Patriot Guard Riders
BEGIN:VTIMEZONE
TZID:America/New_York
BEGIN:DAYLIGHT
TZOFFSETFROM:-0500
TZOFFSETTO:-0400
TZNAME:EDT
DTSTART:20170312T070000
END:DAYLIGHT
BEGIN:STANDARD
TZOFFSETFROM:-0400
TZOFFSETTO:-0500
TZNAME:EST
DTSTART:20171105T060000
END:STANDARD
END:VTIMEZONE
BEGIN:VEVENT
DTSTART;TZID=America/New_York:20171013T153000
DTEND;TZID=America/New_York:20171013T173000
DTSTAMP:20210404T115418
CREATED:20171013T193000Z
LAST-MODIFIED:20191201T033912Z
UID:338736-1507908600-1507915800@www.patriotguard.org
SUMMARY:Timothy Joseph Ashcraft\, Active Duty\, USA
DESCRIPTION:PVT. Timothy Joseph Ashcraft\, Active Duty\nUSA\nMiddletown\, Ohio – 13 Oct 2017\n\n\n[HR][/HR]\nABOUT THE MISSION: \n\nObituary: http://tinyurl.com/ydevpn9s\n\n\nPRIMARY STAGING DETAILS: 13 Oct 2017\nPrimary Staging Time: 3:30 P.M. \n\nHonorable Escort Staging Location:\nWilson-Schramm-Spaulding Funeral Home\n3805 Roosevelt Blvd.\nMiddletown\, Ohio – 45044\nMap to Funeral Home: https://binged.it/2g6XIgR\n\n\nRide Captain: \n\nDistrict #7 Ride Captain Clarence Spencer cjspencer@woh.rr.com\n\n\nSpecial Instructions: \n\nStaging Friday: 13 October 2017@1530HRS-(3:30 PM) Kickstands-up 1600hrs-(4 pm)\n\n\nFlags & Water: \n\nFlags Will NOT Be Provided\, Please Bring Your Own.\nIf you have large bike flags\, please bring them.\nWater WILL NOT be provided\, please bring your own.\n\n[HR][/HR]STAGING #2 DETAILS: 16 Oct\, 2017\nStaging #2 Time: 11:00 A.M. \n\nVisitation/Service: Obituary: http://tinyurl.com/ydevpn9s\nWilson-Schramm-Spaulding Funeral Home\nVisitation Monday: 16 October 2017@ 1200-1400hrs-(12-2 pm)\nService Monday 2017@ 1400hrs-(2 pm)\nMiddletown\, Ohio – 45044\nMap to Funeral Home: https://binged.it/2g6XIgR\n\n\nRide Captain: \n\nDistrict #7 Ride Captain Clarence Spencer cjspencer@woh.rr.com\n\n\nSpecial Instructions: \n\nStaging Monday 2017@1100hrs-(11 am)\n\n\nFlags & Water: \n\nFlags Will NOT Be Provided\, Please Bring Your Own.\nLarge Bike Flags will be needed\nWater WILL NOT be provided\, please bring your own.\n\n\nSubmitted By: Robert Woods\nPosition: State Captain
URL:https://www.patriotguard.org/mission/timothy-joseph-ashcraft-active-duty-usa/
END:VEVENT
END:VCALENDAR