BEGIN:VCALENDAR
VERSION:2.0
PRODID:-//Patriot Guard Riders - ECPv5.3.2.1//NONSGML v1.0//EN
CALSCALE:GREGORIAN
METHOD:PUBLISH
X-WR-CALNAME:Patriot Guard Riders
X-ORIGINAL-URL:https://www.patriotguard.org
X-WR-CALDESC:Events for Patriot Guard Riders
BEGIN:VTIMEZONE
TZID:America/New_York
BEGIN:DAYLIGHT
TZOFFSETFROM:-0500
TZOFFSETTO:-0400
TZNAME:EDT
DTSTART:20190310T070000
END:DAYLIGHT
BEGIN:STANDARD
TZOFFSETFROM:-0400
TZOFFSETTO:-0500
TZNAME:EST
DTSTART:20191103T060000
END:STANDARD
END:VTIMEZONE
BEGIN:VEVENT
DTSTART;VALUE=DATE:20190910
DTEND;VALUE=DATE:20190911
DTSTAMP:20210401T122001
CREATED:20190908T190440Z
LAST-MODIFIED:20190908T190440Z
UID:173169-1568073600-1568159999@www.patriotguard.org
SUMMARY:Timothy Franklin Hammonds
DESCRIPTION:Honor Mission\nTimothy Franklin Hammonds\, Veteran\nUSA –\nDallas\, Texas – 09-10-19\n\n\n\nABOUT THE MISSION: \nMr. Hammonds served from 1965-1968 in USARAL (US Army Alaska).\n\n\nPRIMARY STAGING DETAILS: 09-10-19 \nStaging Time: 09:30 AM\n \nLaurel Land Funeral Home\n6300 R. L. Thornton Fwy\nDallas\, Texas 75232\n\n\nRide Captain: \nRusty McNab\nrustymcnab@sbcglobal.net\n(817) 228-7845\n\n\nSpecial Instructions: \nStarting Time: 10:30am\nFollowing the mission briefing\, Riders will stand the Flag Line for the arrival of Family and friends. After the start of the Service\, Flags will be furled and Riders dismissed.\n\n\nFlags & Water:\nFlags will be provided\nLarge Bike Flags will NOT be needed.\nWater will be provided.\n\nSTAGING #2 DETAILS: 09-10-19 \nStaging Time: 11:45 AM\n \nDallas-Fort Worth National Cemetery Visitor’s Center\n2000 Mountain Creek Pkwy\nDallas\, Texas 75211\n\n\nRide Captain: \nRusty McNab\nrustymcnab@sbcglobal.net\n(817) 228-7845\n\n\nSpecial Instructions: \nStarting Time: 12:30pm\nFollowing the mission briefing\, Riders will proceed to the Shelter and stand the Flag Line for the Interment Service of Mr. Hammonds. At the conclusion of the Service\, Flags will be furled and Riders dismissed.\n\n\nFlags & Water:\nFlags will be provided\nIf you have large bike flags\, please bring them.\nWater will be provided.\n\n\n\nSubmitted By: Dan Mathys \nPosition: Texas Ride Captain \n\nNote: You do not have to own/ride a motorcycle or be a veteran to join\, and membership is Free. The only requirement is RESPECT! To subscribe to receive mission notices\, log into the National Site and click on the Members tab at the top. Select the Subscribe to PGR Missions option.\n Print This Page
URL:https://www.patriotguard.org/mission/timothy-franklin-hammonds/
CATEGORIES:Honor Mission
END:VEVENT
END:VCALENDAR