BEGIN:VCALENDAR
VERSION:2.0
PRODID:-//Patriot Guard Riders - ECPv5.3.2.1//NONSGML v1.0//EN
CALSCALE:GREGORIAN
METHOD:PUBLISH
X-WR-CALNAME:Patriot Guard Riders
X-ORIGINAL-URL:https://www.patriotguard.org
X-WR-CALDESC:Events for Patriot Guard Riders
BEGIN:VTIMEZONE
TZID:America/New_York
BEGIN:DAYLIGHT
TZOFFSETFROM:-0500
TZOFFSETTO:-0400
TZNAME:EDT
DTSTART:20190310T070000
END:DAYLIGHT
BEGIN:STANDARD
TZOFFSETFROM:-0400
TZOFFSETTO:-0500
TZNAME:EST
DTSTART:20191103T060000
END:STANDARD
END:VTIMEZONE
BEGIN:VEVENT
DTSTART;VALUE=DATE:20190802
DTEND;VALUE=DATE:20190803
DTSTAMP:20210402T084801
CREATED:20190731T155604Z
LAST-MODIFIED:20190731T155604Z
UID:169190-1564704000-1564790399@www.patriotguard.org
SUMMARY:Timothy Columbus "Tim" Mauldin\, Jr.
DESCRIPTION:Honor Mission\nTimothy Columbus “Tim” Mauldin\, Jr.\, Veteran\nUSA – WWII\nBaker\, Louisiana – 08-02-19\n\n\n\n\nABOUT THE MISSION: \nThe family of Timothy Columbus “Tim” Mauldin\, Jr. has requested the Patriot Guards Riders stand in honor of their loved one.\nMr. Mauldin served his country in the United States Army Air Force during WWII.\nMap\n\n\nPRIMARY STAGING DETAILS: 08-02-19 \nStaging Time: 9:00 a.m.\n \nNew Beginnings Church of God\n1124 Georgia Street\nBaker\, Louisiana 70714\n\n\nRide Captain: \nRoland “Blade” Sanchez\, 225-931-4725\, rolandlydia@bellsouth.net\n\n\nSpecial Instructions: \n9:00 am: Stage and set flags in preparation for the families arrival\n9:30: Family arrives\, start silent flag line\n10:00: Public visitation begins\n12:00 pm: Funeral service begins\n1:00: Approximate time for the end of service and escort to cemetery\, Hillcrest Memorial Gardens\, 6305 Groom Road\, Baker\, Louisiana 70714.  Note: The funeral procession is approximately 2 miles.\nThe weather forecast at this time is for a high temperature near 91 degrees with a 30% chance of afternoon showers.\n\n\nFlags & Water:\nFlags will be provided\nIf you have large bike flags\, please bring them.\nWater will be provided.\n\n\nSubmitted By: Roland Sanchez \nPosition: Louisiana Assistant State Captain \n\nNote: You do not have to own/ride a motorcycle or be a veteran to join\, and membership is Free. The only requirement is RESPECT! To subscribe to receive mission notices\, log into the National Site and click on the Members tab at the top. Select the Subscribe to PGR Missions option.\n Print This Page
URL:https://www.patriotguard.org/mission/timothy-columbus-tim-mauldin-jr/
CATEGORIES:Honor Mission
END:VEVENT
END:VCALENDAR