BEGIN:VCALENDAR
VERSION:2.0
PRODID:-//Patriot Guard Riders - ECPv5.6.0//NONSGML v1.0//EN
CALSCALE:GREGORIAN
METHOD:PUBLISH
X-WR-CALNAME:Patriot Guard Riders
X-ORIGINAL-URL:https://www.patriotguard.org
X-WR-CALDESC:Events for Patriot Guard Riders
BEGIN:VTIMEZONE
TZID:America/New_York
BEGIN:DAYLIGHT
TZOFFSETFROM:-0500
TZOFFSETTO:-0400
TZNAME:EDT
DTSTART:20160313T070000
END:DAYLIGHT
BEGIN:STANDARD
TZOFFSETFROM:-0400
TZOFFSETTO:-0500
TZNAME:EST
DTSTART:20161106T060000
END:STANDARD
END:VTIMEZONE
BEGIN:VEVENT
DTSTART;TZID=America/New_York:20160823T090000
DTEND;TZID=America/New_York:20160823T110000
DTSTAMP:20210512T033130
CREATED:20160823T130000Z
LAST-MODIFIED:20191201T143437Z
UID:409773-1471942800-1471950000@www.patriotguard.org
SUMMARY:Timothy C Drake
DESCRIPTION:We have been invited to attend the funeral of Timothy C Drake\, Veteran\, U.S. Army \nInterment 1300(1pm) 23 Aug 16 at Veterans Memorial Cemetery\n                                                     2830 Riverside Parkway\n                                                     Grand Junction\, CO\n\nStage 12:15pm at Shelter Area \nRide Captain:   Art Edwards\nharleyroadk@yahoo.com
URL:https://www.patriotguard.org/mission/timothy-c-drake/
CATEGORIES:Archive
END:VEVENT
END:VCALENDAR