BEGIN:VCALENDAR
VERSION:2.0
PRODID:-//Patriot Guard Riders - ECPv5.6.0//NONSGML v1.0//EN
CALSCALE:GREGORIAN
METHOD:PUBLISH
X-WR-CALNAME:Patriot Guard Riders
X-ORIGINAL-URL:https://www.patriotguard.org
X-WR-CALDESC:Events for Patriot Guard Riders
BEGIN:VTIMEZONE
TZID:America/New_York
BEGIN:DAYLIGHT
TZOFFSETFROM:-0500
TZOFFSETTO:-0400
TZNAME:EDT
DTSTART:20160313T070000
END:DAYLIGHT
BEGIN:STANDARD
TZOFFSETFROM:-0400
TZOFFSETTO:-0500
TZNAME:EST
DTSTART:20161106T060000
END:STANDARD
END:VTIMEZONE
BEGIN:VEVENT
DTSTART;TZID=America/New_York:20160819T090000
DTEND;TZID=America/New_York:20160819T110000
DTSTAMP:20210512T014003
CREATED:20160819T130000Z
LAST-MODIFIED:20191201T143649Z
UID:409978-1471597200-1471604400@www.patriotguard.org
SUMMARY:Tim B. Owen\, 91\, USA
DESCRIPTION:PFC Tim B. Owen\, 91\nSandusky\, Ohio\nUnited States Army WWII Veteran\n[ATTACH=CONFIG]5014[/ATTACH]\n\n\n\n\n\nVisitation / Services:\nOhio Veterans Home\nGiffin Chapel\n3416 Columbus Avenue\nSandusky\, Ohio 44870 \nVisitation:  19 August 2016 @ 1000 hrs. – (10:00 AM)\nMilitary Service:  19 August 2016 @ 1100 hrs. – (11:00 AM)\nStaging: 19 August 2016 @ 0900 hrs. – (9:00 AM) \nServices will conclude at the Chapel.  There will be no cemetery escort. \nDistrict  2 Ride Captain Curtis Tyree will be assigned this mission of Honor and  Respect.  Please follow his instructions. Remember your 3’x5′ American  flags. Dress for the weather and stand with your knees at a slight  bend.  If you need to contact Curtis\, you can email him at windrdr_tyree@yahoo.com \n\n\n“Rest in Peace PFC Owen”\n[ATTACH=CONFIG]5015[/ATTACH]
URL:https://www.patriotguard.org/mission/tim-b-owen-91-usa/
CATEGORIES:Archive
END:VEVENT
END:VCALENDAR