BEGIN:VCALENDAR
VERSION:2.0
PRODID:-//Patriot Guard Riders - ECPv5.6.0//NONSGML v1.0//EN
CALSCALE:GREGORIAN
METHOD:PUBLISH
X-WR-CALNAME:Patriot Guard Riders
X-ORIGINAL-URL:https://www.patriotguard.org
X-WR-CALDESC:Events for Patriot Guard Riders
BEGIN:VTIMEZONE
TZID:America/New_York
BEGIN:DAYLIGHT
TZOFFSETFROM:-0500
TZOFFSETTO:-0400
TZNAME:EDT
DTSTART:20090308T070000
END:DAYLIGHT
BEGIN:STANDARD
TZOFFSETFROM:-0400
TZOFFSETTO:-0500
TZNAME:EST
DTSTART:20091101T060000
END:STANDARD
END:VTIMEZONE
BEGIN:VEVENT
DTSTART;TZID=America/New_York:20090410T090000
DTEND;TZID=America/New_York:20090410T110000
DTSTAMP:20210511T125825
CREATED:20090410T130000Z
LAST-MODIFIED:20191201T112317Z
UID:378610-1239354000-1239361200@www.patriotguard.org
SUMMARY:Thomas Wharf\, USA\, Vietnam Veteran
DESCRIPTION:Updated 07 Apr 09 1705 edt S Sturgis \nFinal Itinerary \n        STAGING DATE:  Friday  10 April 09 \n        LOCATION:  Cape Code Harley-Davidson\n                  750 Mac Arthur Blvd (Rte 28)\n                   Bourne\, MA 02559 \n        \n        http://shrunklink.com/cbfz \n        TIME: 10 AM – 11 AM Friday\, 10 April 09 \n        BRIEFING:  11:00 AM \n        KSU: 11:05 AM \n        RIDE CAPTAIN: Jerry McHale    kdlplum@aol.com —\n \n        \nHoward Shrut\nhshrut@rcn.com \n____________________________________________________________ \nThe family of Thomas Wharf has requested our presence at at\nthe service for their loved one at the Massachusetts National\nCemetery in Bourne\, MA. Thomas was a Vietnam Veteran having served\nwith the 101st Airborne Division. \nFor planning purposes\, the service is scheduled for 11:30 AM\non Friday 10 April. \nDetails to follow when they become available. \nRide Captain: Jerry McHale  kdlplum@aol.com\n— \nHoward Shrut\nhshrut@rcn.com
URL:https://www.patriotguard.org/mission/thomas-wharf-usa-vietnam-veteran/
CATEGORIES:Archive
END:VEVENT
END:VCALENDAR