BEGIN:VCALENDAR
VERSION:2.0
PRODID:-//Patriot Guard Riders - ECPv5.3.2.1//NONSGML v1.0//EN
CALSCALE:GREGORIAN
METHOD:PUBLISH
X-WR-CALNAME:Patriot Guard Riders
X-ORIGINAL-URL:https://www.patriotguard.org
X-WR-CALDESC:Events for Patriot Guard Riders
BEGIN:VTIMEZONE
TZID:America/New_York
BEGIN:DAYLIGHT
TZOFFSETFROM:-0500
TZOFFSETTO:-0400
TZNAME:EDT
DTSTART:20190310T070000
END:DAYLIGHT
BEGIN:STANDARD
TZOFFSETFROM:-0400
TZOFFSETTO:-0500
TZNAME:EST
DTSTART:20191103T060000
END:STANDARD
END:VTIMEZONE
BEGIN:VEVENT
DTSTART;VALUE=DATE:20190803
DTEND;VALUE=DATE:20190804
DTSTAMP:20210402T075147
CREATED:20190731T234147Z
LAST-MODIFIED:20190731T234147Z
UID:169384-1564790400-1564876799@www.patriotguard.org
SUMMARY:Thomas "Wayne" Shouse
DESCRIPTION:Honor Mission\nThomas “Wayne” Shouse\, Retired\nUSAF – Vietnam\nJefferson City\, Missouri – 08-03-19\n\n\n\n\nABOUT THE MISSION: \nHero Shouse proudly joined the US Air Force in April 1959 and retired a Master Sergeant in 1982.  He earned the AF Commendation Medal\,  AF Good Conduct Medal with 5 oak leaf clusters\, Good Conduct Army Medal\, AF Longevity Ribbon with 4 oak leaf clusters\, National Defense Medal\, Vietnam Service Medal with 4 bronze Silver Stars\, Small Arms Expert Marksmanship Ribbon and AF Presidential Unit Citation with 1 oak leaf cluster.  After retirement he continued serving his country in the civil service.\n\n\nPRIMARY STAGING DETAILS: 08-03-19 \nStaging Time: 10:15 am\n \nDulle-Trimble Funeral Home\n3210 North Ten Mle Drive\nJefferson City\, Missouri 65109\n\n\nRide Captain: \nMark “Cobra” Birminghamam\nd6193@embarqmail.com\n573-635-9570573-230-5611\n\n\nSpecial Instructions: \nBriefing/ Flag line:   10:15 am\nCelebration of Life:  11:00 am – Noon\n12:00 pm:  Escort to Hawthorn Memorial Gardens.  Graveside service with full military honors.  Weather forecast is sunny with a high of 85 degrees.  20% chance of rain.  Hydrate more than you think necessary.  Cages are always welcome.\n\nFlags & Water:\nFlags will be provided\nIf you have large bike flags\, please bring them.\nWater WILL NOT be provided\, please bring your own.\n\n\n Print This Page
URL:https://www.patriotguard.org/mission/thomas-wayne-shouse/
CATEGORIES:Honor Mission
END:VEVENT
END:VCALENDAR