BEGIN:VCALENDAR
VERSION:2.0
PRODID:-//Patriot Guard Riders - ECPv5.3.2.1//NONSGML v1.0//EN
CALSCALE:GREGORIAN
METHOD:PUBLISH
X-WR-CALNAME:Patriot Guard Riders
X-ORIGINAL-URL:https://www.patriotguard.org
X-WR-CALDESC:Events for Patriot Guard Riders
BEGIN:VTIMEZONE
TZID:America/New_York
BEGIN:DAYLIGHT
TZOFFSETFROM:-0500
TZOFFSETTO:-0400
TZNAME:EDT
DTSTART:20190310T070000
END:DAYLIGHT
BEGIN:STANDARD
TZOFFSETFROM:-0400
TZOFFSETTO:-0500
TZNAME:EST
DTSTART:20191103T060000
END:STANDARD
END:VTIMEZONE
BEGIN:VEVENT
DTSTART;VALUE=DATE:20190911
DTEND;VALUE=DATE:20190912
DTSTAMP:20210401T091816
CREATED:20190910T221533Z
LAST-MODIFIED:20190910T221533Z
UID:173411-1568160000-1568246399@www.patriotguard.org
SUMMARY:Thomas Turner Allen\, Jr.
DESCRIPTION:Honor Mission\nThomas Turner Allen\, Jr.\, Veteran\nUSA\, USAR – Vietnam\nBastrop\, Louisiana – 09-11-19\n\n\n\nABOUT THE MISSION: \nThomas Turner Allen\, Jr. served his country honorably during the Vietnam War. After his service he served in the Mississippi National Guard a number of years. He spent a lifetime in the automotive field as a tire salesman and most everyone in North Louisiana at one time or another has bought a set of tires from him. Tom loved the outdoors and he loved his family dearly. They have requested the Patriot Guard stand for his service and it will be our honor to do so.\n\n\nPRIMARY STAGING DETAILS: 09-11-19 \nStaging Time: 09:00 AM\n \nGolden Funeral Home\n2316 East Madison Ave.\nBastrop\, Louisiana 71220\n\n\nRide Captain: \nBuck “Ironrider” Harper\n318-282-1899\n\n\nSpecial Instructions: \nFlags will be set.\nWe will stand before the service\nEscort following service to Liberty Hill-Taylor Cemetery\, 765 Hope Well Road\, Farmerville\, La.\nThere we will stand as he receives military honors at his interment.\nHerb Wolford will place flags at the cemetery.\n\n\nFlags & Water:\nFlags will be provided\nIf you have large bike flags\, please bring them.\nWater WILL NOT be provided\, please bring your own.\n\n\n\nSubmitted By: Buck Harper \nPosition: Louisiana Ride Captain \n\nNote: You do not have to own/ride a motorcycle or be a veteran to join\, and membership is Free. The only requirement is RESPECT! To subscribe to receive mission notices\, log into the National Site and click on the Members tab at the top. Select the Subscribe to PGR Missions option.\n Print This Page
URL:https://www.patriotguard.org/mission/thomas-turner-allen-jr/
CATEGORIES:Honor Mission
END:VEVENT
END:VCALENDAR