BEGIN:VCALENDAR
VERSION:2.0
PRODID:-//Patriot Guard Riders - ECPv5.3.2.1//NONSGML v1.0//EN
CALSCALE:GREGORIAN
METHOD:PUBLISH
X-WR-CALNAME:Patriot Guard Riders
X-ORIGINAL-URL:https://www.patriotguard.org
X-WR-CALDESC:Events for Patriot Guard Riders
BEGIN:VTIMEZONE
TZID:America/New_York
BEGIN:DAYLIGHT
TZOFFSETFROM:-0500
TZOFFSETTO:-0400
TZNAME:EDT
DTSTART:20190310T070000
END:DAYLIGHT
BEGIN:STANDARD
TZOFFSETFROM:-0400
TZOFFSETTO:-0500
TZNAME:EST
DTSTART:20191103T060000
END:STANDARD
END:VTIMEZONE
BEGIN:VEVENT
DTSTART;VALUE=DATE:20190308
DTEND;VALUE=DATE:20190309
DTSTAMP:20210403T014754
CREATED:20190306T201603Z
LAST-MODIFIED:20190306T201722Z
UID:152565-1552003200-1552089599@www.patriotguard.org
SUMMARY:Thomas P. Mellett
DESCRIPTION:Honor Mission\nThomas P. Mellett\, Veteran\nUSN – Korea\nPocasset\, Massachusetts – 03-08-19\n\n\n\n\nABOUT THE MISSION: \nThe family of Thomas P. Mellett has requested our presence at the committal of their loved one. Thomas proudly served his country on the Gearing class Destroyer USS Perry as Radarman 2nd class during the Korean War until he was honorably discharged in 1957. His Committal will be at: Massachusetts National Cemetery\, Connery Ave.\, Bourne MA. 02532\n\n\nPRIMARY STAGING DETAILS: 03-08-19 \nStaging Time: 09:45 AM\n \nCape Cod Harley Davidson\n750 MacAthur Blvd. (RT28)\nPocasset\, Massachusetts 02559\n\n\nRide Captain: \nChris Smith\ncjs8596@yahoo.com\n\n\nSpecial Instructions: \nBreifing at: 10:30AM\n\n\nFlags & Water:\nFlags will be provided\nLarge Bike Flags will NOT be needed.\nWater WILL NOT be provided\, please bring your own.\n\n\n\nSubmitted By: Steven Vieira \nPosition: Massachusetts Assistant State Captain \n\nNote: You do not have to own/ride a motorcycle or be a veteran to join\, and membership is Free. The only requirement is RESPECT! To subscribe to receive mission notices\, log into the National Site and click on the Members tab at the top. Select the Subscribe to PGR Missions option.\n Print This Page
URL:https://www.patriotguard.org/mission/thomas-p-mellett/
CATEGORIES:Honor Mission
END:VEVENT
END:VCALENDAR