BEGIN:VCALENDAR
VERSION:2.0
PRODID:-//Patriot Guard Riders - ECPv5.6.0//NONSGML v1.0//EN
CALSCALE:GREGORIAN
METHOD:PUBLISH
X-WR-CALNAME:Patriot Guard Riders
X-ORIGINAL-URL:https://www.patriotguard.org
X-WR-CALDESC:Events for Patriot Guard Riders
BEGIN:VTIMEZONE
TZID:America/New_York
BEGIN:DAYLIGHT
TZOFFSETFROM:-0500
TZOFFSETTO:-0400
TZNAME:EDT
DTSTART:20160313T070000
END:DAYLIGHT
BEGIN:STANDARD
TZOFFSETFROM:-0400
TZOFFSETTO:-0500
TZNAME:EST
DTSTART:20161106T060000
END:STANDARD
END:VTIMEZONE
BEGIN:VEVENT
DTSTART;TZID=America/New_York:20160715T090000
DTEND;TZID=America/New_York:20160715T110000
DTSTAMP:20210512T153520
CREATED:20160715T130000Z
LAST-MODIFIED:20191201T144326Z
UID:410590-1468573200-1468580400@www.patriotguard.org
SUMMARY:Thomas N. Young\, 68\, USCG - USNR
DESCRIPTION:PO3 Thomas Nolen Young\, 68\nUS  Coast Guard\, US Navy Reserves\nHarris County Sheriff & Temple Police  Departments\nBelton\, TX\n\n\n\nThe family of US Coast Guard Petty Officer Third Class Thomas Young has  requested the presence and participation of the Patriot Guard Riders at the  Funeral Service and Interment of their Loved One. Visitation will be at Crawford-Bowers in Killeen on Thu\, 14 Jul 16  from 1800 to 2000.\n\nThomas was born the only son to Wilfred and Alma Bonner Young in Hempstead\,  Texas on July 13\, 1947\, a 6th generation Texan. He proudly service in the United  States Coast Guard on active duty from 1966 to 1970 where he was a proud Golden  Shell Back Crab and then served for two years in the reserves. In 1973 he joined  the Harris County Sheriff’s Department and rose through the ranks from jailer to  Detective Sergeant in 1978. In 1980 he moved to Belton to be closer to his  wife’s parents and joined the Temple Police Department in 1982. He served in  many capacities from patrol to training. He formed the first Official Honor  Guard and his last 5 years before retirement\, in 2000 he was one of the first  two motorcycle officers for Temple Police Department. He served honorably in the  US Navy Reserves from 1984 to 1991. One of his proudest moments was when he was  Raised in the Masonic Knob Creek Lodge 401 with his uncle by his side. He served  the Lodge faithfully and was Worshipful Master three times. He was recommended  and appointed District Deputy Grand Master for 2001. He received the Golden  Trowel Award in 2006. For all his work as Worshipful Master he represented Knob  Creek at the 1994 Cornerstone Laying for the Capital extension in Austin. He  then gave his time to Shriners International and in 2014 became the Potentate  for Karem Shrine in Waco\, a truly great honor. He was also a member of the Sons  of Confederate Veterans. His love for motorcycles never died and he rode for  S.A.F.E on funeral escorts until his death. Thomas’ full obituary may be found  here: http://obits.dignitymemorial.com/dignity-memorial/obituary.aspx?n=Thomas-Young&lc=1795&pid=180616533&mid=7002560 \nDate: Fri\, 15 Jul  16 \n \n\nFUNERAL SERVICE\n\n\nStaging Time: 1235\nStaging Location: Crawford-Bowers Funeral Home\, 1615 South  Fort Hood St\, Killeen\, TX  76542 (http://tinyurl.com/ykp5q6o)\nBriefing: 1245\nFlagline Establishment:  1255 +/- Once the Funeral  Service begins; we will strike the flagline and prepare to participate in the  procession to the Central Texas State Veterans Cemetery. \nNote: Be at staging  TOPPED OFF.\nRide Captains:\nBarry “Bear” Dahlquist; 254.317.9977; advanceman1@yahoo.com\nLarry “PapaDragon” Femrite; 254.317.5545; blewdragon6@yahoo.com\nThomas “Sleepy” Weideman; 254.258.4901; TWeideman@hot.rr.com\nMary “Marebear” Gregory; 254.458.2120; Mgregory2@hot.rr.com \n \n\nINTERMENT\n\n\nStaging Time: 1405\nStaging Location: The cul-de-sac between the Walk of  Heroes and the Memorial Shelter at the Central Texas State Veterans Cemetery  located off TX 195 just south of Killeen\, TX (http://tinyurl.com/CenTexVetsCeme)\nSetup & Briefing: Upon clearance and at the direction  of the Ride Captain\, we will move to the shelter\, set up the flags\, be briefed  and await arrival of the procession.\nRide Captains:\nBarry “Bear” Dahlquist; 254.317.9977; advanceman1@yahoo.com\nLarry “PapaDragon” Femrite; 254.317.5545; blewdragon6@yahoo.com\nThomas “Sleepy” Weideman; 254.258.4901; TWeideman@hot.rr.com\nMary “Marebear” Gregory; 254.458.2120; Mgregory2@hot.rr.com \nWX: Mostly sunny\, with a high near 98. South wind 10 to 15  mph. \nNotes:\n1. Be at stagingS ON  TIME.\n2. Hydrate well prior\, bring water for yourself and a buddy and dress with  consideration of the weather conditions.
URL:https://www.patriotguard.org/mission/thomas-n-young-68-uscg-usnr/
CATEGORIES:Archive
END:VEVENT
END:VCALENDAR