BEGIN:VCALENDAR
VERSION:2.0
PRODID:-//Patriot Guard Riders - ECPv5.3.2.1//NONSGML v1.0//EN
CALSCALE:GREGORIAN
METHOD:PUBLISH
X-WR-CALNAME:Patriot Guard Riders
X-ORIGINAL-URL:https://www.patriotguard.org
X-WR-CALDESC:Events for Patriot Guard Riders
BEGIN:VTIMEZONE
TZID:America/New_York
BEGIN:DAYLIGHT
TZOFFSETFROM:-0500
TZOFFSETTO:-0400
TZNAME:EDT
DTSTART:20190310T070000
END:DAYLIGHT
BEGIN:STANDARD
TZOFFSETFROM:-0400
TZOFFSETTO:-0500
TZNAME:EST
DTSTART:20191103T060000
END:STANDARD
END:VTIMEZONE
BEGIN:VEVENT
DTSTART;VALUE=DATE:20190529
DTEND;VALUE=DATE:20190530
DTSTAMP:20210404T231031
CREATED:20190528T183635Z
LAST-MODIFIED:20190528T183635Z
UID:162603-1559088000-1559174399@www.patriotguard.org
SUMMARY:Thomas Milton Noblitt
DESCRIPTION:Honor Mission\nThomas Milton Noblitt\, Veteran\nUSCG – WWII\nElizabeth City\, North Carolina – 05-29-19\n\n\n\nABOUT THE MISSION: \nA member of Our Greatest Generation\, Thomas Milton Noblitt\, USCG served our Country Honorably during WWII. Returning home after the War\, he spent the greater part of his life as a Volunteer Fire Fighter with the Camden County Volunteer Fire Department.\n\n\nPRIMARY STAGING DETAILS: 05-29-19 \nStaging Time: 1:00 pm  \nWest Lawn Cemeter\n1909 West Main St.\nElizabeth City\, North Carolina 27909\n\n\nRide Captain: \nDavid “Boweavel” Chappelle\n757-681-3622\n\n\nSpecial Instructions: \nThis will be a Flag Line Only Mission.\nWe will set the Flag Line and render proper honors for the arrival of family and friends.\n\n\nFlags & Water:\nFlags will be provided\nIf you have large bike flags\, please bring them.\nWater WILL NOT be provided\, please bring your own.\n\nSubmitted By: Roy Hankinson \nPosition: North Carolina Assistant State Captain \n\nNote: You do not have to own/ride a motorcycle or be a veteran to join\, and membership is Free. The only requirement is RESPECT! To subscribe to receive mission notices\, log into the National Site and click on the Members tab at the top. Select the Subscribe to PGR Missions option.\n Print This Page
URL:https://www.patriotguard.org/mission/thomas-milton-noblitt/
CATEGORIES:Honor Mission
END:VEVENT
END:VCALENDAR