BEGIN:VCALENDAR
VERSION:2.0
PRODID:-//Patriot Guard Riders - ECPv5.3.2.1//NONSGML v1.0//EN
CALSCALE:GREGORIAN
METHOD:PUBLISH
X-WR-CALNAME:Patriot Guard Riders
X-ORIGINAL-URL:https://www.patriotguard.org
X-WR-CALDESC:Events for Patriot Guard Riders
BEGIN:VTIMEZONE
TZID:America/New_York
BEGIN:DAYLIGHT
TZOFFSETFROM:-0500
TZOFFSETTO:-0400
TZNAME:EDT
DTSTART:20080309T070000
END:DAYLIGHT
BEGIN:STANDARD
TZOFFSETFROM:-0400
TZOFFSETTO:-0500
TZNAME:EST
DTSTART:20081102T060000
END:STANDARD
END:VTIMEZONE
BEGIN:VEVENT
DTSTART;TZID=America/New_York:20081229T090000
DTEND;TZID=America/New_York:20081229T110000
DTSTAMP:20210404T150009
CREATED:20081229T140000Z
LAST-MODIFIED:20191201T112826Z
UID:379517-1230541200-1230548400@www.patriotguard.org
SUMMARY:Thomas Joseph Devitt\, WWII Veteran
DESCRIPTION:SHORT NOTICE HONOR MISSION \n            THOMAS JOSEPH DEVITT ARMY VET WWII\n\n                         ROLLING MEADOWS\, IL \n\nThe family of Thomas Devitt has invited the Patriot Guard to stand a flag line at his wake to honor him for his service to this Nation. . Thomas was a WWII veteran serving in the Army who won a Victory Medal of Occupation while serving in Japan. Thomas also received a Good Conduct Medal and the Pacific Theatre Campaign Medal. Thomas’s grandson\, Brian Hermann  and his great granddaughter\, Caitlyn  are Patriot Guard members and will be joining us in the flag line as we pay tribute to this hero . It doesn’t matter if you can stand for 30 minutes or 3 hours\, our presence will be deeply appreciated by the family. \n\nDATE: Monday\, Dec. 29\, 2008 \n\nLOCATION:\nMeadows Funeral Home\n3615 Kirchoff Road\nRolling Meadows\, IL \n\nWAKE:\n3pm to 8pm \n\nSTAGING:\n2:45pm \nThe Patriot Guard will not be participating in the funeral  services so please try to join us on Monday night. \n\nRC: Debbie ( Boots) Crudele  630-254-3368\nRC: Brenda ( Mom Hog) Meyers 630-742-2321
URL:https://www.patriotguard.org/mission/thomas-joseph-devitt-wwii-veteran/
CATEGORIES:Archive
END:VEVENT
END:VCALENDAR