BEGIN:VCALENDAR
VERSION:2.0
PRODID:-//Patriot Guard Riders - ECPv5.3.2.1//NONSGML v1.0//EN
CALSCALE:GREGORIAN
METHOD:PUBLISH
X-WR-CALNAME:Patriot Guard Riders
X-ORIGINAL-URL:https://www.patriotguard.org
X-WR-CALDESC:Events for Patriot Guard Riders
BEGIN:VTIMEZONE
TZID:America/New_York
BEGIN:DAYLIGHT
TZOFFSETFROM:-0500
TZOFFSETTO:-0400
TZNAME:EDT
DTSTART:20190310T070000
END:DAYLIGHT
BEGIN:STANDARD
TZOFFSETFROM:-0400
TZOFFSETTO:-0500
TZNAME:EST
DTSTART:20191103T060000
END:STANDARD
END:VTIMEZONE
BEGIN:VEVENT
DTSTART;VALUE=DATE:20190627
DTEND;VALUE=DATE:20190628
DTSTAMP:20210404T225802
CREATED:20190625T224620Z
LAST-MODIFIED:20190625T224620Z
UID:165739-1561593600-1561679999@www.patriotguard.org
SUMMARY:Thomas Johnson
DESCRIPTION:Honor Mission\nThomas Johnson\, Veteran\nUSN\, USNR\nKilleen\, Texas – 06-27-19\n\n\n\nABOUT THE MISSION: \nPetty Officer Third Class Thomas Johnson served in the US Navy and Naval Reserve from 1966 to 1972\, including service in Vietnam. He left the service as a Petty Officer Third Class.  Obituary\n\n\nPRIMARY STAGING DETAILS: 06-27-19 \nStaging Time: 1:05 pm\n \nCentral Texas State Veterans Cemetery\nKilleen\, Texas 76542\nMap\n\n\nRide Captain: \nHolly “Holler” Melendez\n254.931.0127\nInVamous_Kai@yahoo.com\n\n\nSpecial Instructions: \nMeet at the cul-de-sac between the Walk of Heroes and the Memorial Shelter. Upon clearance and at the direction of the Ride Captain\, we will move to the shelter\, set up the flags\, be briefed and await arrival of the procession.\n\nFlags & Water:\nFlags will be provided\nLarge Bike Flags will NOT be needed.\nWater will be provided.\n\n\n\n\nSubmitted By: Holly Melendez \nPosition: Texas Ride Captain \n\nNote: You do not have to own/ride a motorcycle or be a veteran to join\, and membership is Free. The only requirement is RESPECT! To subscribe to receive mission notices\, log into the National Site and click on the Members tab at the top. Select the Subscribe to PGR Missions option.\n Print This Page
URL:https://www.patriotguard.org/mission/thomas-johnson/
CATEGORIES:Honor Mission
END:VEVENT
END:VCALENDAR