BEGIN:VCALENDAR
VERSION:2.0
PRODID:-//Patriot Guard Riders - ECPv5.6.0//NONSGML v1.0//EN
CALSCALE:GREGORIAN
METHOD:PUBLISH
X-WR-CALNAME:Patriot Guard Riders
X-ORIGINAL-URL:https://www.patriotguard.org
X-WR-CALDESC:Events for Patriot Guard Riders
BEGIN:VTIMEZONE
TZID:America/New_York
BEGIN:DAYLIGHT
TZOFFSETFROM:-0500
TZOFFSETTO:-0400
TZNAME:EDT
DTSTART:20160313T070000
END:DAYLIGHT
BEGIN:STANDARD
TZOFFSETFROM:-0400
TZOFFSETTO:-0500
TZNAME:EST
DTSTART:20161106T060000
END:STANDARD
END:VTIMEZONE
BEGIN:VEVENT
DTSTART;TZID=America/New_York:20160714T090000
DTEND;TZID=America/New_York:20160714T110000
DTSTAMP:20210512T153313
CREATED:20160714T130000Z
LAST-MODIFIED:20191201T144341Z
UID:410615-1468486800-1468494000@www.patriotguard.org
SUMMARY:Thomas Joe VanDeMark\, USA
DESCRIPTION:The family of Thomas “Tommy” Joe VanDeMark have asked the Patriot Guard Riders to attend and help honor their hero with a flag line and escort this Thursday 14 July 2016. \nChurch service begin at 2 pm and will be held at Vimy Ridge Baptist Church 4179 County Street 2875 Rush Springs\, OK.  Internment will be following the church services at the Rush Springs Cemetery \nFuneral is under direction of Callaway-Smith-Cobb Funeral Home. \nDate:  Thursday 14 July 2016 \nStaging: 1:00 pm\nVimy Ridge Baptist Church\n4179 County Street 2875\nRush Springs\, OK. \nMandatory Briefing: 1:15 pm \nKSU: Following church services\nEscort to Rush Springs Cemetery\n301 N Chestnut\nRush Springs\, OK. \nWeather: Temperature of around 100° at time of the services. \nHydrate! Hydrate! Hydrate! \nRCIC: Bill Hamilton\n580-475-6468\nbgh@cableone.net
URL:https://www.patriotguard.org/mission/thomas-joe-vandemark-usa/
CATEGORIES:Archive
END:VEVENT
END:VCALENDAR