BEGIN:VCALENDAR
VERSION:2.0
PRODID:-//Patriot Guard Riders - ECPv5.3.2.1//NONSGML v1.0//EN
CALSCALE:GREGORIAN
METHOD:PUBLISH
X-WR-CALNAME:Patriot Guard Riders
X-ORIGINAL-URL:https://www.patriotguard.org
X-WR-CALDESC:Events for Patriot Guard Riders
BEGIN:VTIMEZONE
TZID:America/New_York
BEGIN:DAYLIGHT
TZOFFSETFROM:-0500
TZOFFSETTO:-0400
TZNAME:EDT
DTSTART:20190310T070000
END:DAYLIGHT
BEGIN:STANDARD
TZOFFSETFROM:-0400
TZOFFSETTO:-0500
TZNAME:EST
DTSTART:20191103T060000
END:STANDARD
END:VTIMEZONE
BEGIN:VEVENT
DTSTART;VALUE=DATE:20190709
DTEND;VALUE=DATE:20190710
DTSTAMP:20210404T033638
CREATED:20190706T003635Z
LAST-MODIFIED:20190706T003635Z
UID:166750-1562630400-1562716799@www.patriotguard.org
SUMMARY:Thomas James Dluhy
DESCRIPTION:Honor Mission\nThomas James Dluhy\, Retired\nUSAF – Vietnam\nPhoenix\, Arizona – 07-09-19\n\n\n\n\nABOUT THE MISSION: \nMaster Sergeant Thomas James Dluhy is a United States Air Force veteran. He proudly served his country in the US Air Force from 1953 to 1973. Tom Dluhy completed technical school at Lory AFB Colorado in January 1954 as a Munitions Specialist. He then served at Bitburg AB Germany with the 1st Tactical Missile Squadron USAFE and the 36th Consolidated Aircraft Maintenance Squadron USAFE. Next\, he was assigned to 7235 Ammo Supply Squadron Leghorn Italy. Several rotations to the Republic of Vietnam with 412th Munitions Maintenance Squadron was also during this time period. He finished his time in the Air Force at Holloman AFB\, Alamogordo\, New Mexico with the 49th Munitions Maintenance Squadron Tactical Air Command. Master Sergeant Dluhy was released from active duty and honorably discharged in May 1973.While in the service of his country Master Sergeant Dluhy earned the following : National Defense Service Medal with 1 Service star\, Army of Occupation Medal (Germany)\, Good Conduct Medal with 6 Oak Leaf Clusters\, Air Force Longevity Service Award with 5 Oak Leaf Clusters\, Air Force Outstanding Unit Award\, Republic of Vietnam Campaign Medal\, Vietnam Service Medal with 3 Bronze Service Stars\, Bronze Star Medal.\n\n\nPRIMARY STAGING DETAILS: 07-09-19 \nStaging Time: 08:40 am \nNational Memorial Cemetery of Arizona\, Visitor’s Center\n23029 Cave Creek Road\nPhoenix\, Arizona 85024\n\n\nRide Captain: \nTim Gentry  402-210-7857\ntgentry100@gmail.com\n\nFlag Captain: Bill (Popeye) Johnson\n\n\nSpecial Instructions: \nCircle of Honor: 9:00 AM\nFlag Line Set: 9:20 AM\nMilitary Honors: 9:30 AM\n\nFlags & Water:\nFlags will be provided\nLarge Bike Flags will NOT be needed.\nWater will be provided.\n\nSubmitted By: David Murphy \nPosition: Arizona Assistant State Captain \n\nNote: You do not have to own/ride a motorcycle or be a veteran to join\, and membership is Free. The only requirement is RESPECT! To subscribe to receive mission notices\, log into the National Site and click on the Members tab at the top. Select the Subscribe to PGR Missions option.\n Print This Page
URL:https://www.patriotguard.org/mission/thomas-james-dluhy/
CATEGORIES:Honor Mission
END:VEVENT
END:VCALENDAR