BEGIN:VCALENDAR
VERSION:2.0
PRODID:-//Patriot Guard Riders - ECPv5.3.2.1//NONSGML v1.0//EN
CALSCALE:GREGORIAN
METHOD:PUBLISH
X-WR-CALNAME:Patriot Guard Riders
X-ORIGINAL-URL:https://www.patriotguard.org
X-WR-CALDESC:Events for Patriot Guard Riders
BEGIN:VTIMEZONE
TZID:America/New_York
BEGIN:DAYLIGHT
TZOFFSETFROM:-0500
TZOFFSETTO:-0400
TZNAME:EDT
DTSTART:20170312T070000
END:DAYLIGHT
BEGIN:STANDARD
TZOFFSETFROM:-0400
TZOFFSETTO:-0500
TZNAME:EST
DTSTART:20171105T060000
END:STANDARD
END:VTIMEZONE
BEGIN:VEVENT
DTSTART;TZID=America/New_York:20171011T163000
DTEND;TZID=America/New_York:20171011T183000
DTSTAMP:20210401T194330
CREATED:20171011T203000Z
LAST-MODIFIED:20191201T031816Z
UID:323324-1507739400-1507746600@www.patriotguard.org
SUMMARY:Thomas Jacob Smith\, Veteran\, USA - Vietnam
DESCRIPTION:Thomas Jacob Smith\, Veteran\nUSA  – Vietnam\nMULTI-CITY\, Kentucky – 11 Oct 2017\n\n\n[HR][/HR]\nABOUT THE MISSION: \n\nWe have been asked to escort Thomas Jacob Smith to his final resting place at KVCC. \nMr. Smith is an Army veteran who served in Viet Nam where he received a Purple Heart for his valiant service. \nWe will be honored to escort him.\n \n\nPRIMARY STAGING DETAILS:  11 Oct 2017\nPrimary Staging Time: 11:30 A.M. EST \n\nAssumption Creek Orthodox Church\n930 Ormsby Lane\nLouisville\, Kentucky – 40242\n\n\nRide Captain: \n\nTom Baker\n(502) 271-8955\n\n\nSpecial Instructions: \n\nService will start at 11:00 a.m. at the church \nEscort to KVCC following the service\n \n\nFlags & Water: \n\nFlags Will Not Be Needed\nIf you have large bike flags\, please bring them.\nWater WILL NOT be provided\, please bring your own.\n\n[HR][/HR]STAGING #2 DETAILS: 11 Oct\, 2017\nStaging #2 Time: 1:30 P.M. EST \n\nKVCC\n2501 North Dixie Boulevard\nRadcliff\, Kentucky – 40160\n\n\nRide Captain: \n\nAngela Smith\n\n\nSpecial Instructions: \n\nStage and stake flags at 1:30 p.m. \nService starts at 2:00 p.m.\n \n\nFlags & Water: \n\nFlags Will Be Provided\nLarge Bike Flags will NOT be needed\nWater WILL NOT be provided\, please bring your own.\n\n\nSubmitted By: Thomas Baker\nPosition: Ride Captain\n[HR][/HR]Note:\nYou do not have to own/ride a motorcycle or be a Veteran to join and membership is Free. The only requirement is RESPECT! To join\, simply go to www.PatriotGuard.org and click on Register. Membership is Free. \nTo subscribe to receive mission notices\, log into the National Site and click on the Mission Tab at the top. Select the Subscribe to Missions option.
URL:https://www.patriotguard.org/mission/thomas-jacob-smith-veteran-usa-vietnam-2/
END:VEVENT
END:VCALENDAR