BEGIN:VCALENDAR
VERSION:2.0
PRODID:-//Patriot Guard Riders - ECPv5.6.0//NONSGML v1.0//EN
CALSCALE:GREGORIAN
METHOD:PUBLISH
X-WR-CALNAME:Patriot Guard Riders
X-ORIGINAL-URL:https://www.patriotguard.org
X-WR-CALDESC:Events for Patriot Guard Riders
BEGIN:VTIMEZONE
TZID:America/New_York
BEGIN:DAYLIGHT
TZOFFSETFROM:-0500
TZOFFSETTO:-0400
TZNAME:EDT
DTSTART:20160313T070000
END:DAYLIGHT
BEGIN:STANDARD
TZOFFSETFROM:-0400
TZOFFSETTO:-0500
TZNAME:EST
DTSTART:20161106T060000
END:STANDARD
END:VTIMEZONE
BEGIN:VEVENT
DTSTART;TZID=America/New_York:20160816T090000
DTEND;TZID=America/New_York:20160816T110000
DTSTAMP:20210512T024550
CREATED:20160816T130000Z
LAST-MODIFIED:20191201T143557Z
UID:409901-1471338000-1471345200@www.patriotguard.org
SUMMARY:Thomas J. Doran
DESCRIPTION:Fellow Patriots\,\n\nOnce again the Patriot Guard Riders have been asked to stand for one who stood for us. Mr. Thomas Joseph Clydesdale Doran\, U.S. Army Veteran\, was called home for his final duty station. Mr. Doran earned the Good Conduct Medal while serving our country from Feb 1961-March 1964.  Mr. Doran during his service was a machine operator. \nWe will stand a flag line for Mr. Doran at 10:00 am on August 16\, 2016\, Where Military Honors will be presented and also Masonic funeral rites.  \nThis will be a one day mission/ Flag line only:\n\nAugust 16th\, 2016\nStaging 9:15 am \nLocation:\nOasis Shrine Temple\, 604 Doug Mayes Pl. \, Charlotte\, N. C.  \nMap to location:  https://goo.gl/maps/bd195KHo1h22\n\nBriefing: 9:30 am\nFlag line: 9:45 am \nWe will stand a flag line for the arrival of family and guest\, and while Military Honors and Masonic funeral services are performed\, then quietly depart. \nRCIC: Allen “Roadglide” Hudson\nhudson644@charter.net\n(828) 850-5010
URL:https://www.patriotguard.org/mission/thomas-j-doran/
CATEGORIES:Archive
END:VEVENT
END:VCALENDAR