BEGIN:VCALENDAR
VERSION:2.0
PRODID:-//Patriot Guard Riders - ECPv5.6.0//NONSGML v1.0//EN
CALSCALE:GREGORIAN
METHOD:PUBLISH
X-WR-CALNAME:Patriot Guard Riders
X-ORIGINAL-URL:https://www.patriotguard.org
X-WR-CALDESC:Events for Patriot Guard Riders
BEGIN:VTIMEZONE
TZID:America/New_York
BEGIN:DAYLIGHT
TZOFFSETFROM:-0500
TZOFFSETTO:-0400
TZNAME:EDT
DTSTART:20160313T070000
END:DAYLIGHT
BEGIN:STANDARD
TZOFFSETFROM:-0400
TZOFFSETTO:-0500
TZNAME:EST
DTSTART:20161106T060000
END:STANDARD
END:VTIMEZONE
BEGIN:VEVENT
DTSTART;TZID=America/New_York:20160815T090000
DTEND;TZID=America/New_York:20160815T110000
DTSTAMP:20210512T021715
CREATED:20160815T130000Z
LAST-MODIFIED:20191201T143615Z
UID:409927-1471251600-1471258800@www.patriotguard.org
SUMMARY:Thomas Horn\, USA
DESCRIPTION:The family of Thomas Horn USA Vietnam Veteran has asked the Patriot Guard Riders to stand a flag line at his funeral service to be held on Monday\, 15 Aug 2016 in Coalgate\, OK. \nServices will be held at Brown’s Funeral Chapel 400 W. Queen Hwy3 Coalgate\, OK at 10:00am. \nWe will escort the hero to Lehigh Cemetery for interment. \nThe U.S. Army Honor Guard has been requested to conduct Military Honors. \nDate: Monday 15 Aug 2016 \nStaging: 8:30 am \nBrown’s Funeral Chapel\n400 W. Queen Hwy3\nCoalgate\, OK \nDurant staging: 7:15 am \nKSU: 7:30 am \nDurant Honda\nNorth First Street\nDurant\, OK \nMANDATORY BRIEFING: 9:15 am\nYOU MUST ATTEND THE BRIEFING TO RIDE IN THE ESCORT. \nFLAG LINE: 9:30 am  \nWEATHER: Temp Low 67 High 83 Cloudy Please dress accordingly Hydrate Hydrate \nRCIC:\nRandy “Judge” Damron\n580-380-7319\nroadreadyrandy@yahoo.com
URL:https://www.patriotguard.org/mission/thomas-horn-usa/
CATEGORIES:Archive
END:VEVENT
END:VCALENDAR