BEGIN:VCALENDAR
VERSION:2.0
PRODID:-//Patriot Guard Riders - ECPv5.3.2.1//NONSGML v1.0//EN
CALSCALE:GREGORIAN
METHOD:PUBLISH
X-WR-CALNAME:Patriot Guard Riders
X-ORIGINAL-URL:https://www.patriotguard.org
X-WR-CALDESC:Events for Patriot Guard Riders
BEGIN:VTIMEZONE
TZID:America/New_York
BEGIN:DAYLIGHT
TZOFFSETFROM:-0500
TZOFFSETTO:-0400
TZNAME:EDT
DTSTART:20190310T070000
END:DAYLIGHT
BEGIN:STANDARD
TZOFFSETFROM:-0400
TZOFFSETTO:-0500
TZNAME:EST
DTSTART:20191103T060000
END:STANDARD
END:VTIMEZONE
BEGIN:VEVENT
DTSTART;VALUE=DATE:20190603
DTEND;VALUE=DATE:20190604
DTSTAMP:20210405T050105
CREATED:20190531T135103Z
LAST-MODIFIED:20190531T203710Z
UID:163182-1559520000-1559606399@www.patriotguard.org
SUMMARY:Thomas Henry Eck
DESCRIPTION:Honor Mission\nThomas Henry Eck\, Retired\nUSAF – Korea\, Vietnam\nWarner Robins\, Georgia – 06-03-19\n\n\nABOUT THE MISSION:\n\n\nThe family of TSgt Thomas Henry Eck has asked the Patriot Guard Riders to stand for their hero and I have told them it will be our honor to do so. TSgt Thomas Henry Eck served 22 years in the USAF he as an aircraft technician on the C-141 aircraft. TSgt Eck served in country in both Korea and Vietnam wars.\n\n\nPRIMARY STAGING DETAILS: 06-03-19 \nStaging Time: 09:30  \nHeritage Memorial Funeral Home\n701 Carl Vinson Parkway\nWarner Robins\, Georgia 31093\n\n\nRide Captain: \nBruce ‘FlagMaster’ Tamker\nbatamker@cox.net\n478-952-3400\n\n\nSpecial Instructions: \nWe will stage at 9:30 am and set up a static flag line. A mandatory escort briefing at 9:50 am\, all riders must attend the briefing if you plan on joining the escort. At 10:oo am we will begin a flag line until the service begins at 11:00 am. Following Tom’s service we will escort him to Parkway Memorial Gardens.\n\n\nFlags & Water:\nFlags will be provided\nIf you have large bike flags\, please bring them.\nWater will be provided.\n\n\n\nSubmitted By: BRUCE TAMKER \nPosition: \n\nNote: You do not have to own/ride a motorcycle or be a veteran to join\, and membership is Free. The only requirement is RESPECT! To subscribe to receive mission notices\, log into the National Site and click on the Members tab at the top. Select the Subscribe to PGR Missions option.\n Print This Page
URL:https://www.patriotguard.org/mission/thomas-henry-eck/
CATEGORIES:Honor Mission
END:VEVENT
END:VCALENDAR