BEGIN:VCALENDAR
VERSION:2.0
PRODID:-//Patriot Guard Riders - ECPv5.3.2.1//NONSGML v1.0//EN
CALSCALE:GREGORIAN
METHOD:PUBLISH
X-WR-CALNAME:Patriot Guard Riders
X-ORIGINAL-URL:https://www.patriotguard.org
X-WR-CALDESC:Events for Patriot Guard Riders
BEGIN:VTIMEZONE
TZID:America/New_York
BEGIN:DAYLIGHT
TZOFFSETFROM:-0500
TZOFFSETTO:-0400
TZNAME:EDT
DTSTART:20190310T070000
END:DAYLIGHT
BEGIN:STANDARD
TZOFFSETFROM:-0400
TZOFFSETTO:-0500
TZNAME:EST
DTSTART:20191103T060000
END:STANDARD
END:VTIMEZONE
BEGIN:VEVENT
DTSTART;VALUE=DATE:20190923
DTEND;VALUE=DATE:20190924
DTSTAMP:20210401T100334
CREATED:20190916T011035Z
LAST-MODIFIED:20190916T011035Z
UID:173996-1569196800-1569283199@www.patriotguard.org
SUMMARY:Thomas H Harshman
DESCRIPTION:Honor Mission\nThomas H Harshman\, Veteran\nUSA – Korea\nGrand Junction\, Colorado – 09-23-19\n\n\n\nABOUT THE MISSION: \nThe Patriot Guard Riders have been requested to stand a Flag Line for our fallen Brother.\n\n\nPRIMARY STAGING DETAILS: 09-23-19 \nStaging Time: 12:15 PM\n \nOrchard Mesa Cemetery Veterans Section\nGrand Junction\, Colorado 81501\n\n\nRide Captain: \nTim Himes\n970-241-1174\n\n\nSpecial Instructions: \n\n\nFlags & Water:\nFlags will not be provided\nLarge Bike Flags will NOT be needed.\nWater WILL NOT be provided\, please bring your own.\n\n\n\nSubmitted By: Arthur Edwards \nPosition: Colorado Assistant State Captain \n\nNote: You do not have to own/ride a motorcycle or be a veteran to join\, and membership is Free. The only requirement is RESPECT! To subscribe to receive mission notices\, log into the National Site and click on the Members tab at the top. Select the Subscribe to PGR Missions option.\n Print This Page
URL:https://www.patriotguard.org/mission/thomas-h-harshman/
CATEGORIES:Honor Mission
END:VEVENT
END:VCALENDAR