BEGIN:VCALENDAR
VERSION:2.0
PRODID:-//Patriot Guard Riders - ECPv5.6.0//NONSGML v1.0//EN
CALSCALE:GREGORIAN
METHOD:PUBLISH
X-WR-CALNAME:Patriot Guard Riders
X-ORIGINAL-URL:https://www.patriotguard.org
X-WR-CALDESC:Events for Patriot Guard Riders
BEGIN:VTIMEZONE
TZID:America/New_York
BEGIN:DAYLIGHT
TZOFFSETFROM:-0500
TZOFFSETTO:-0400
TZNAME:EDT
DTSTART:20160313T070000
END:DAYLIGHT
BEGIN:STANDARD
TZOFFSETFROM:-0400
TZOFFSETTO:-0500
TZNAME:EST
DTSTART:20161106T060000
END:STANDARD
END:VTIMEZONE
BEGIN:VEVENT
DTSTART;TZID=America/New_York:20160827T090000
DTEND;TZID=America/New_York:20160827T110000
DTSTAMP:20210511T205348
CREATED:20160827T130000Z
LAST-MODIFIED:20191201T143300Z
UID:409622-1472288400-1472295600@www.patriotguard.org
SUMMARY:Thomas Edward Molinets\, 45
DESCRIPTION:Thomas Edward Molinets\, 45\nUS Navy Veteran\nDeFuniak Springs\, FL\nSaturday\, 27 Aug\, 2016\n\n\n\nThe family of BT3 (E-4) Thomas Edward Molinets invited the Patriot Guard to stand a flag line for his final Honors at New Harmony Baptist Church Cemetery\, 2281\, County Hwy 2A\, DeFuniak Springs\, Florida. \nSeaman Molinets served over 9 years in the United States Navy. His decorations include the National Defense Service Medal\, Joint Meritorious Unit Award\, Meritorious Unit Commendation\, Sea Service Deployment Ribbon\, Overseas Service Ribbion\, Good Conduct Award\, Navy and Marine Corps Achievement Medal. \nFuneral Services will be at the New Harmony Baptist Church and graveside honors will be at the cemetery on site. \nAll arrangements are in the care of Davis-Watkins Funeral Home\, DeFuniak Springs\, FL. \nNote: It is suggested that all riders wear long sleeve shirts\, long trousers\, long fingered gloves\, leather footwear covering the ankles\, appropriate eye wear and DOT approved helmets. \nNote: For safety reasons\, all riders will attend the safety briefing. \nStaging will be as follows: \n0830 – McDonald’s\n2807 Avalon Blvd\nMilton\, FL \n0845 – KSU \n0915 – Stage at\nHardee’s\n2702 S. Ferdon Blvd\nCrestview\, FL \n0930 –  KSU \n1000 – Burger King\n1303 S. Freeport Hwy\, (Hwy. 331)\nDeFuniak Springs\, FL \n1045 – Safety briefing \n1100 – KSU \n1130 – Arrive at\nNew Harmony Baptist Chuch\n2281 County Hwy 2A\nDeFuniak Springs\, FL \n1200 (Approx) – Honors at New Harmony Baptist Church Cemetery\nIf you have any questions please contact the ride captain \nBig Vic Everett\n850-502-9545\nBvbd1@cox.net \nRespectfully Submitted;\nJohn Lowery
URL:https://www.patriotguard.org/mission/thomas-edward-molinets-45/
CATEGORIES:Archive
END:VEVENT
END:VCALENDAR