BEGIN:VCALENDAR
VERSION:2.0
PRODID:-//Patriot Guard Riders - ECPv5.3.2.1//NONSGML v1.0//EN
CALSCALE:GREGORIAN
METHOD:PUBLISH
X-WR-CALNAME:Patriot Guard Riders
X-ORIGINAL-URL:https://www.patriotguard.org
X-WR-CALDESC:Events for Patriot Guard Riders
BEGIN:VTIMEZONE
TZID:America/New_York
BEGIN:DAYLIGHT
TZOFFSETFROM:-0500
TZOFFSETTO:-0400
TZNAME:EDT
DTSTART:20190310T070000
END:DAYLIGHT
BEGIN:STANDARD
TZOFFSETFROM:-0400
TZOFFSETTO:-0500
TZNAME:EST
DTSTART:20191103T060000
END:STANDARD
END:VTIMEZONE
BEGIN:VEVENT
DTSTART;VALUE=DATE:20190119
DTEND;VALUE=DATE:20190120
DTSTAMP:20210404T103258
CREATED:20190116T210448Z
LAST-MODIFIED:20190116T210448Z
UID:147696-1547856000-1547942399@www.patriotguard.org
SUMMARY:Thomas DelNegro
DESCRIPTION:Honor Mission\nThomas DelNegro \, Veteran\n\, USNR –\nSouthwick\, Massachusetts – 01-19-19\n\n\n\n\nABOUT THE MISSION: \nThe family of US Navy Reserve Veteran Thomas DelNegro and CT PGR Brother Scott Turner have requested our presence at the Wake and Funeral of their beloved Hero. Thomas served our country as a US Navy Reserve Seabee for 6 years. He leaves behind a fiance and two young children.\n\n\nPRIMARY STAGING DETAILS: 01-19-19 \nStaging Time: 1:30 pm\n \nSouthwick Forastiere Funeral Home\nParking Lot\n624 College Highway\nSouthwick\, Massachusetts 01077\n\n\nRide Captain: \nPatrick “Astro” Asta\n-Ferreroastro.1972@hotmail.com\n\n\nSpecial Instructions: \nBRIEFING: 2:10 PM KSU: 2:20 PM We will then form a flag line to greet the Family. Wake is 3:00 PM – 6:00 PM Funeral Service is 6:00 PM\nINTERMENT: To be held at a later date.\n\nFlags & Water:\nFlags will be provided\nLarge Bike Flags will NOT be needed.\nWater WILL NOT be provided\, please bring your own.\n\n\n\nSubmitted By: Larry Drum \nPosition: Massachusetts Assistant State Captain \n\nNote: You do not have to own/ride a motorcycle or be a veteran to join\, and membership is Free. The only requirement is RESPECT! To subscribe to receive mission notices\, log into the National Site and click on the Members tab at the top. Select the Subscribe to PGR Missions option.\n Print This Page
URL:https://www.patriotguard.org/mission/thomas-delnegro/
CATEGORIES:Honor Mission
END:VEVENT
END:VCALENDAR