BEGIN:VCALENDAR
VERSION:2.0
PRODID:-//Patriot Guard Riders - ECPv5.6.0//NONSGML v1.0//EN
CALSCALE:GREGORIAN
METHOD:PUBLISH
X-WR-CALNAME:Patriot Guard Riders
X-ORIGINAL-URL:https://www.patriotguard.org
X-WR-CALDESC:Events for Patriot Guard Riders
BEGIN:VTIMEZONE
TZID:America/New_York
BEGIN:DAYLIGHT
TZOFFSETFROM:-0500
TZOFFSETTO:-0400
TZNAME:EDT
DTSTART:20090308T070000
END:DAYLIGHT
BEGIN:STANDARD
TZOFFSETFROM:-0400
TZOFFSETTO:-0500
TZNAME:EST
DTSTART:20091101T060000
END:STANDARD
END:VTIMEZONE
BEGIN:VEVENT
DTSTART;TZID=America/New_York:20090509T090000
DTEND;TZID=America/New_York:20090509T110000
DTSTAMP:20210511T125201
CREATED:20090509T130000Z
LAST-MODIFIED:20191201T112117Z
UID:378238-1241859600-1241866800@www.patriotguard.org
SUMMARY:Thomas Barry\, USMC
DESCRIPTION:The family of Thomas Barry has requested our presence at the funeral of their loved one.\nThomas was a US Marine Vietnam veteran and friend of fellow PGR member Chet Burzenski. \n\nFUNERAL:        McNally Funeral Home\n304 Church St\nClinton\, MA 01510 \nhttp://shrunklink.com/cjev \nSTAGING:  9:30 – 10:30 AM Saturday 9 May 09\nIn the McNally  Funeral Home parking lot \n\nFlag Line: Will form at 10:30 AM \nInterment will follow at the South Cemetery  Bolton\, MA \nActing Ride Captain: Chet Burzenski czeslawb@comcast.net \n\n— \nHoward Shrut\nAssistant State Captain\nhshrut@rcn.com
URL:https://www.patriotguard.org/mission/thomas-barry-usmc/
CATEGORIES:Archive
END:VEVENT
END:VCALENDAR