BEGIN:VCALENDAR
VERSION:2.0
PRODID:-//Patriot Guard Riders - ECPv5.3.2.1//NONSGML v1.0//EN
CALSCALE:GREGORIAN
METHOD:PUBLISH
X-WR-CALNAME:Patriot Guard Riders
X-ORIGINAL-URL:https://www.patriotguard.org
X-WR-CALDESC:Events for Patriot Guard Riders
BEGIN:VTIMEZONE
TZID:America/New_York
BEGIN:DAYLIGHT
TZOFFSETFROM:-0500
TZOFFSETTO:-0400
TZNAME:EDT
DTSTART:20190310T070000
END:DAYLIGHT
BEGIN:STANDARD
TZOFFSETFROM:-0400
TZOFFSETTO:-0500
TZNAME:EST
DTSTART:20191103T060000
END:STANDARD
END:VTIMEZONE
BEGIN:VEVENT
DTSTART;VALUE=DATE:20190610
DTEND;VALUE=DATE:20190611
DTSTAMP:20210405T070222
CREATED:20190609T231748Z
LAST-MODIFIED:20191127T072626Z
UID:164175-1560124800-1560211199@www.patriotguard.org
SUMMARY:Thomas Allen Thompson
DESCRIPTION:Honor Mission\nSGT Thomas Allen Thompson\, Veteran\nUSA – Vietnam\nNorth Little Rock\, Arkansas – 06-10-19\n\n\n\nABOUT THE MISSION: \nArkansas has lost a true American Hero and Patriot. The family of Thomas Allen Thompson has asked the Patriot Guard to stand in honor of their Hero during his graveside services at the Arkansas State Veterans Cemetery. Sgt Thompson joined the Army Feb. 11\, 1972 as an Avionic Mechanic. While serving he earned the following medals: National Defense Medal\, Vietnam Cross Gallantry W/Palm\, Vietnam Service Medal W/BSS\, Good Conduct Medal\, Vietnam Campaign Medal W/60 device\, Expert Rifle and Armed Forces Expeditionary Medal. Sgt Thompson completed his duty on Apr. 11\, 1975. After his Military service he worked for ABF Freight Systems until retirement. After retirement he enjoyed Hunting\, Fishing\, Country music\, watching westerns and spending time with his Family. It will truly be an honor to stand for Sgt Thomas Allen Thompson.\nObituary\n\n\nPRIMARY STAGING DETAILS: 06-10-19 \nStaging Time: 12:15 PM\n \nArkansas State Veterans Cemetery at Staging area sign.\n1501 W Maryland Dr.\nNorth Little Rock\, Arkansas 72120\n\n\nRide Captain: \nMartha Mayland\n501-416-1194\nMarthamayland@sbcglobal.net\n\n\nSpecial Instructions: \nBriefing: 12:30 pm\nInterment: 1:00 pm\nWe will meet the Family at ASVC \, stand a Respect line / Flag line during Service.\n\n\nFlags & Water:\nFlags will be provided\nLarge Bike Flags will NOT be needed.\nWater WILL NOT be provided\, please bring your own.\n\n\n\nSubmitted By: Rick Schrunk \nPosition: Arkansas Ride/Hoth Captain \n\nNote: You do not have to own/ride a motorcycle or be a veteran to join\, and membership is Free. The only requirement is RESPECT! To subscribe to receive mission notices\, log into the National Site and click on the Members tab at the top. Select the Subscribe to PGR Missions option.\n Print This Page
URL:https://www.patriotguard.org/mission/thomas-allen-thompson/
CATEGORIES:Honor Mission
END:VEVENT
END:VCALENDAR