BEGIN:VCALENDAR
VERSION:2.0
PRODID:-//Patriot Guard Riders - ECPv5.6.0//NONSGML v1.0//EN
CALSCALE:GREGORIAN
METHOD:PUBLISH
X-WR-CALNAME:Patriot Guard Riders
X-ORIGINAL-URL:https://www.patriotguard.org
X-WR-CALDESC:Events for Patriot Guard Riders
BEGIN:VTIMEZONE
TZID:America/New_York
BEGIN:DAYLIGHT
TZOFFSETFROM:-0500
TZOFFSETTO:-0400
TZNAME:EDT
DTSTART:20140309T070000
END:DAYLIGHT
BEGIN:STANDARD
TZOFFSETFROM:-0400
TZOFFSETTO:-0500
TZNAME:EST
DTSTART:20141102T060000
END:STANDARD
END:VTIMEZONE
BEGIN:VEVENT
DTSTART;TZID=America/New_York:20141107T090000
DTEND;TZID=America/New_York:20141107T110000
DTSTAMP:20210511T131502
CREATED:20141107T140000Z
LAST-MODIFIED:20191201T131255Z
UID:398508-1415350800-1415358000@www.patriotguard.org
SUMMARY:Thomas A. Virgo\, USA Korea
DESCRIPTION:Thomas A. Virgo\, Sergeant (E-5)\n\n\nUnited States Army\n\n\n7 November 2014\n\n\nLeavenworth\, Kansas\n\n\n \n \nThe family of SGT Thomas A. Virgo\, has requested the Patriot Guard Riders honor their loved one by escorting him to his final resting place and manning a flag line for his service.\nSGT Virgo served almost 12 years and was in Korea and Vietnam. He was awarded the National Defense Medal\, Armed Forces Expeditionary Medal\, Vietnam Campaign Medal\, Vietnam Service Medal (4 campaigns)\, Good Conduct Medal (2nd award)\, Vietnam Cross of Gallantry w/ Palm\, Marksman with both the M-14 and the M-16.  He served as a Military Policeman.\n \nStaging: 7 Nov 14\n0830 hrs. (8:30 am) – Stage at Administration Office Parking Lot at Leavenworth National Cemetery (VA)\, Kansas\n0845 hrs. (8:45 am) – Briefing and Escort to Committal Shelter\n0900 hrs. (9:00 am) –Man Flag Line\n \nThis will be a very short escort taking place entirely on the Leavenworth Cemetery (VA).\n \nYour Ride Captain for this mission will be:\nGary Reynolds\n913-775-3946\n \n \n \nBruce (Medic) Holmes\nAssistant State Captain – Kansas
URL:https://www.patriotguard.org/mission/thomas-a-virgo-usa-korea/
CATEGORIES:Archive
END:VEVENT
END:VCALENDAR