BEGIN:VCALENDAR
VERSION:2.0
PRODID:-//Patriot Guard Riders - ECPv5.3.2.1//NONSGML v1.0//EN
CALSCALE:GREGORIAN
METHOD:PUBLISH
X-WR-CALNAME:Patriot Guard Riders
X-ORIGINAL-URL:https://www.patriotguard.org
X-WR-CALDESC:Events for Patriot Guard Riders
BEGIN:VTIMEZONE
TZID:America/New_York
BEGIN:DAYLIGHT
TZOFFSETFROM:-0500
TZOFFSETTO:-0400
TZNAME:EDT
DTSTART:20190310T070000
END:DAYLIGHT
BEGIN:STANDARD
TZOFFSETFROM:-0400
TZOFFSETTO:-0500
TZNAME:EST
DTSTART:20191103T060000
END:STANDARD
END:VTIMEZONE
BEGIN:VEVENT
DTSTART;VALUE=DATE:20190923
DTEND;VALUE=DATE:20190924
DTSTAMP:20210401T123116
CREATED:20190922T150619Z
LAST-MODIFIED:20190922T150619Z
UID:175939-1569196800-1569283199@www.patriotguard.org
SUMMARY:Thomas A. Davis
DESCRIPTION:Honor Mission\nThomas A. Davis\, Veteran\nUSAF\nPineland\, Texas – 09-23-19\n\n\n \n\nABOUT THE MISSION: \nWe know very little about Mr. Davis’s military service at this time other than he joined the Air Force on February 12\, 1954 and was Honorably discharged on October 3\, 1957. He went to work for Southwestern Bell October 1957 and retired after 30 years in 1987.\n\n\nPRIMARY STAGING DETAILS: 09-23-19 \nStaging Time: 9:15 am\n \nStrickland Crossing Church of God\n230 Strickland Crossing RD West\nPineland\, Texas 75968\nMap\n\n\nRide Captain: \nRodney Ray\n936-553-4761\nrray75935@yahoo.com\n\n\nSpecial Instructions: \nRiders meeting at 9:45 AM\nFLAG LINE ONLY\nPlease remain flexible as to the requirements of the mission.(SEMPER GUMBY)\n\nFlags & Water:\nFlags will be provided\nLarge Bike Flags will NOT be needed.\nWater will be provided.\n\n\n\nSubmitted By: Michael Eubank \nPosition: Texas Deputy State Captain \n\nNote: You do not have to own/ride a motorcycle or be a veteran to join\, and membership is Free. The only requirement is RESPECT! To subscribe to receive mission notices\, log into the National Site and click on the Members tab at the top. Select the Subscribe to PGR Missions option.\n Print This Page
URL:https://www.patriotguard.org/mission/thomas-a-davis/
CATEGORIES:Honor Mission
END:VEVENT
END:VCALENDAR