BEGIN:VCALENDAR
VERSION:2.0
PRODID:-//Patriot Guard Riders - ECPv5.3.2.1//NONSGML v1.0//EN
CALSCALE:GREGORIAN
METHOD:PUBLISH
X-WR-CALNAME:Patriot Guard Riders
X-ORIGINAL-URL:https://www.patriotguard.org
X-WR-CALDESC:Events for Patriot Guard Riders
BEGIN:VTIMEZONE
TZID:America/New_York
BEGIN:DAYLIGHT
TZOFFSETFROM:-0500
TZOFFSETTO:-0400
TZNAME:EDT
DTSTART:20190310T070000
END:DAYLIGHT
BEGIN:STANDARD
TZOFFSETFROM:-0400
TZOFFSETTO:-0500
TZNAME:EST
DTSTART:20191103T060000
END:STANDARD
END:VTIMEZONE
BEGIN:VEVENT
DTSTART;VALUE=DATE:20190703
DTEND;VALUE=DATE:20190704
DTSTAMP:20210404T034717
CREATED:20190702T102513Z
LAST-MODIFIED:20190702T102513Z
UID:166400-1562112000-1562198399@www.patriotguard.org
SUMMARY:Theodore Nelson Jr.
DESCRIPTION:Honor Mission\nTheodore Nelson Jr.\, Retired\nUSA -\, Korea\, Vietnam\nSierra Vista\, Arizona – 07-03-19\n\n\n\n\nABOUT THE MISSION: \nThe family of Theodore Nelson Jr. has requested the PGR and riding community to stand for military honors on Wednesday 03 July 2019 at the Southern Arizona Veterans Memorial Cemetery in Sierra Vista\, AZ.\nTed proudly served our country in the US Army and retired at the rank of Sergeant First Class after over 20 years of service. He is a veteran of the Korea and Vietnam wars.\n\n\nPRIMARY STAGING DETAILS: 07-03-19 \nStaging Time: 11:00 a.m.  \nEntrance to So. AZ Veterans Memorial Cemetery\n1300 Buffalo Soldier Trail\nSierra Vista\, Arizona 85635\n\n\nRide Captain: \nBecky Baze\, 520-508-7127\, bekhal1060@yahoo.com\n\n\nSpecial Instructions: \nBriefing: 11:20 am\nKSU: 11:30 am\nMilitary Honors: 12:00 pm.  Line up along the frontage road at the entrance to the cemetery w/ 3×5 flags mounted if you have one.\nIt is very hot here in southern AZ\, so remember to hydrate the day before and the day of the mission.\n\n\nFlags & Water:\nFlags will be provided\nIf you have large bike flags\, please bring them.\nWater will be provided.\n\n\nSubmitted By: Becky Baze \nPosition: Arizona Ride Captain \n\nNote: You do not have to own/ride a motorcycle or be a veteran to join\, and membership is Free. The only requirement is RESPECT! To subscribe to receive mission notices\, log into the National Site and click on the Members tab at the top. Select the Subscribe to PGR Missions option.\n Print This Page
URL:https://www.patriotguard.org/mission/theodore-nelson-jr/
CATEGORIES:Honor Mission
END:VEVENT
END:VCALENDAR