BEGIN:VCALENDAR
VERSION:2.0
PRODID:-//Patriot Guard Riders - ECPv5.6.0//NONSGML v1.0//EN
CALSCALE:GREGORIAN
METHOD:PUBLISH
X-WR-CALNAME:Patriot Guard Riders
X-ORIGINAL-URL:https://www.patriotguard.org
X-WR-CALDESC:Events for Patriot Guard Riders
BEGIN:VTIMEZONE
TZID:America/New_York
BEGIN:DAYLIGHT
TZOFFSETFROM:-0500
TZOFFSETTO:-0400
TZNAME:EDT
DTSTART:20160313T070000
END:DAYLIGHT
BEGIN:STANDARD
TZOFFSETFROM:-0400
TZOFFSETTO:-0500
TZNAME:EST
DTSTART:20161106T060000
END:STANDARD
END:VTIMEZONE
BEGIN:VEVENT
DTSTART;TZID=America/New_York:20160705T090000
DTEND;TZID=America/New_York:20160705T110000
DTSTAMP:20210512T225648
CREATED:20160705T130000Z
LAST-MODIFIED:20191201T144703Z
UID:410922-1467709200-1467716400@www.patriotguard.org
SUMMARY:Theodore E. Long\, USN
DESCRIPTION:The Family of Theodore E. Long has invited the Patriot Guard Riders to Stand in Honor of his service to our Country. Mr. Long served in the United States Navy during the Vietnam War and also in Desert Storm serving in Saudi Arabia. He is survived by his Wife and 3 Sons and a Daughter. \nStaging:\nMcDonalds\n15187 N. Holly Rd.\nHolly MI. \nMap: http://mapq.st/291wB2c \nSTAGE:                 12:15\nBRIEF:                   1:00\nKSU:                      1:35 \nPlease bring your 3×5 American Flags to Stand for Theodore Long \nRC: SKEETER (586-524-8083)
URL:https://www.patriotguard.org/mission/theodore-e-long-usn/
END:VEVENT
END:VCALENDAR