BEGIN:VCALENDAR
VERSION:2.0
PRODID:-//Patriot Guard Riders - ECPv5.3.2.1//NONSGML v1.0//EN
CALSCALE:GREGORIAN
METHOD:PUBLISH
X-WR-CALNAME:Patriot Guard Riders
X-ORIGINAL-URL:https://www.patriotguard.org
X-WR-CALDESC:Events for Patriot Guard Riders
BEGIN:VTIMEZONE
TZID:America/New_York
BEGIN:DAYLIGHT
TZOFFSETFROM:-0500
TZOFFSETTO:-0400
TZNAME:EDT
DTSTART:20190310T070000
END:DAYLIGHT
BEGIN:STANDARD
TZOFFSETFROM:-0400
TZOFFSETTO:-0500
TZNAME:EST
DTSTART:20191103T060000
END:STANDARD
END:VTIMEZONE
BEGIN:VEVENT
DTSTART;VALUE=DATE:20190605
DTEND;VALUE=DATE:20190606
DTSTAMP:20210405T020234
CREATED:20190604T011844Z
LAST-MODIFIED:20190604T011844Z
UID:163548-1559692800-1559779199@www.patriotguard.org
SUMMARY:Theodore Dorian Badami
DESCRIPTION:Honor Mission\nTheodore Dorian Badami\, Veteran\nUSA –\nSpanish Fort\, Alabama – 06-05-19\n\n\n\nABOUT THE MISSION: \nThe family of SPG Badami has requested we stand tall and in a silent flag line of respect and honor during the services of their loved one. SGT Badami was in the Army for 5 years and 7 Months and was 56 years old when he passed away. He was awarded an Army Commendation Medal\, Army Achievement Medal\, Good Conduct Medal\, NCO Professional Development Ribbon\, Army Service Ribbon\, Overseas Service Ribbon\, Expert Badge (Rifle) Hand Grenade and Missile\, and a Parachutist Badge\, and was Honorably Discharged. Sgt. Badami was also Retired from Home Land Security where he was a Instructor for the Secret Service aand a Corrections Officer and a Police officer.\n\n\nPRIMARY STAGING DETAILS: 06-05-19 \nStaging Time: 12:45 PM\n \nScenic Overlook\nI-10 & Exit 35 off of I 10 (Daphne Hwy 98)\nSpanish Fort\, Alabama\n\n\nRide Captain: \nGreg “Clean Machine” Selman\, SRC\n(251) 490-9791 gbselman@hotmail.com\n\n\nSpecial Instructions: \nBriefing: 1:00 pm.\nKSU: 1:15 pm.\nInterment: 2:30 pm. at Alabama State Veteran Memorial Cemetery.\nWe will Escort from Holy Trinity Lutheran Church\, 8271 Whispering Pines Rd\, Daphne\, Al to the Alabama State Veterans Memorial in Spanish Fort.\nLEO will be provided and there will be a Honor Guard.\n\n\nFlags & Water:\nFlags will be provided\nIf you have large bike flags\, please bring them.\nWater WILL NOT be provided\, please bring your own.\n\n\n\nSubmitted By: Gregory Selman \nPosition: Alabama Ride Captain \n\nNote: You do not have to own/ride a motorcycle or be a veteran to join\, and membership is Free. The only requirement is RESPECT! To subscribe to receive mission notices\, log into the National Site and click on the Members tab at the top. Select the Subscribe to PGR Missions option.\n Print This Page
URL:https://www.patriotguard.org/mission/theodore-dorian-badami/
CATEGORIES:Honor Mission
END:VEVENT
END:VCALENDAR