BEGIN:VCALENDAR
VERSION:2.0
PRODID:-//Patriot Guard Riders - ECPv5.3.2.1//NONSGML v1.0//EN
CALSCALE:GREGORIAN
METHOD:PUBLISH
X-WR-CALNAME:Patriot Guard Riders
X-ORIGINAL-URL:https://www.patriotguard.org
X-WR-CALDESC:Events for Patriot Guard Riders
BEGIN:VTIMEZONE
TZID:America/New_York
BEGIN:DAYLIGHT
TZOFFSETFROM:-0500
TZOFFSETTO:-0400
TZNAME:EDT
DTSTART:20190310T070000
END:DAYLIGHT
BEGIN:STANDARD
TZOFFSETFROM:-0400
TZOFFSETTO:-0500
TZNAME:EST
DTSTART:20191103T060000
END:STANDARD
END:VTIMEZONE
BEGIN:VEVENT
DTSTART;TZID=America/New_York:20190702T000000
DTEND;TZID=America/New_York:20190702T000000
DTSTAMP:20210404T054910
CREATED:20190629T162242Z
LAST-MODIFIED:20190629T162242Z
UID:166279-1562025600-1562025600@www.patriotguard.org
SUMMARY:Theodore C. Brewer
DESCRIPTION:Honor Mission\nTheodore C. Brewer\, Veteran\nUSN – WWII\nNashville\, Tennessee – 07-02-19\n\n\n\nABOUT THE MISSION: \nTheodore Brewer separated from the Navy as a Gunners Mate GM3 (SS)\, having volunteered for the submarine service during a time when losses in submarines were 1 in 4.\n\n\nPRIMARY STAGING DETAILS: 07-02-19 \nStaging Time: 1:30 PM\n \nShell Station\n8020 McCrory Lane\nNashville\, Tennessee 37221\n\n\nRide Captain: \nDavid Westhorp\n(615) 330-5340\n\n\nSpecial Instructions: \nPGR will move from the staging location to Middle TN Veterans Cemetery for a 2 PM ceremony. Members of the US Submarine Veterans\, Inc. will toll the Bell for Mr. Brewer.\n\n\nFlags & Water:\nFlags will be provided\nIf you have large bike flags\, please bring them.\nWater WILL NOT be provided\, please bring your own.\n\n\n\nSubmitted By: David Westhorp \nPosition: Tennessee State Captain \n\nNote: You do not have to own/ride a motorcycle or be a veteran to join\, and membership is Free. The only requirement is RESPECT! To subscribe to receive mission notices\, log into the National Site and click on the Members tab at the top. Select the Subscribe to PGR Missions option.\n Print This Page
URL:https://www.patriotguard.org/mission/theodore-c-brewer/
CATEGORIES:Honor Mission
END:VEVENT
END:VCALENDAR