BEGIN:VCALENDAR
VERSION:2.0
PRODID:-//Patriot Guard Riders - ECPv5.3.2.1//NONSGML v1.0//EN
CALSCALE:GREGORIAN
METHOD:PUBLISH
X-WR-CALNAME:Patriot Guard Riders
X-ORIGINAL-URL:https://www.patriotguard.org
X-WR-CALDESC:Events for Patriot Guard Riders
BEGIN:VTIMEZONE
TZID:America/New_York
BEGIN:DAYLIGHT
TZOFFSETFROM:-0500
TZOFFSETTO:-0400
TZNAME:EDT
DTSTART:20190310T070000
END:DAYLIGHT
BEGIN:STANDARD
TZOFFSETFROM:-0400
TZOFFSETTO:-0500
TZNAME:EST
DTSTART:20191103T060000
END:STANDARD
END:VTIMEZONE
BEGIN:VEVENT
DTSTART;VALUE=DATE:20190606
DTEND;VALUE=DATE:20190607
DTSTAMP:20210405T040920
CREATED:20190604T021330Z
LAST-MODIFIED:20190604T021330Z
UID:163494-1559779200-1559865599@www.patriotguard.org
SUMMARY:The Vietnam Traveling Memorial Wall Escort
DESCRIPTION:Memorial\nThe Vietnam Traveling Memorial Wall Escort\, POW/MIA\, KIA\, Veteran\nUSA USMC USN USAF – Vietnam\nKittanning\, Pennsylvania – 06-06-19\n\n\n\nABOUT THE MISSION: \nThe Patriot Guard Riders have been invited to escort the Vietnam Traveling Memorial Wall that is set to make its appearance at Kittanning Riverfront Park during Waves Of Thunder. The Wall is a 3/5 scale of the Vietnam Memorial in Washington\, DC spanning 300 feet and travels throughout the country. The Wall was made for the purpose of allowing people the opportunity to see names of loved ones from their home town who otherwise may not be able to make the trip to Washington\, DC. The Vietnam Traveling Memorial Wall will be on display in the lower section of the Park and for those who wish to participate\, the opening Memorial Ceremony will be at 6 PM.\n\n\nPRIMARY STAGING DETAILS: 06-06-19 \nStaging Time: 08:00 AM\n \nAldi’s11 Hilltop Plaza Parking Lot\nKittanning\, Pennsylvania 16201\nMap\n\n\nRide Captain: \nTimothy Smith\npgrpa.sc@gmail.com\n(724) 472-8746\n\n\nSpecial Instructions: \nBriefing: 8:15 AM\nKSU: TBD\nMembers can attend all of a mission or any part of the mission. PGR sets no time for a member to escort and or stand a mission. We Thank you for whatever time you give us and the families of our heroes appreciate your time.\nPlease watch the weather\, dress accordingly and hydrate\n\n\nFlags & Water:\nFlags will not be provided\nLarge Bike Flags will NOT be needed.\nWater WILL NOT be provided\, please bring your own.\n\n\n\nSubmitted By: Marcy Sorensen \nPosition: Pennsylvania Ride Captain \n\nNote: You do not have to own/ride a motorcycle or be a veteran to join\, and membership is Free. The only requirement is RESPECT! To subscribe to receive mission notices\, log into the National Site and click on the Members tab at the top. Select the Subscribe to PGR Missions option.\n Print This Page
URL:https://www.patriotguard.org/mission/the-vietnam-traveling-memorial-wall-escort/
CATEGORIES:Memorial
END:VEVENT
END:VCALENDAR