BEGIN:VCALENDAR
VERSION:2.0
PRODID:-//Patriot Guard Riders - ECPv5.6.0//NONSGML v1.0//EN
CALSCALE:GREGORIAN
METHOD:PUBLISH
X-WR-CALNAME:Patriot Guard Riders
X-ORIGINAL-URL:https://www.patriotguard.org
X-WR-CALDESC:Events for Patriot Guard Riders
BEGIN:VTIMEZONE
TZID:America/New_York
BEGIN:DAYLIGHT
TZOFFSETFROM:-0500
TZOFFSETTO:-0400
TZNAME:EDT
DTSTART:20160313T070000
END:DAYLIGHT
BEGIN:STANDARD
TZOFFSETFROM:-0400
TZOFFSETTO:-0500
TZNAME:EST
DTSTART:20161106T060000
END:STANDARD
END:VTIMEZONE
BEGIN:VEVENT
DTSTART;TZID=America/New_York:20160604T090000
DTEND;TZID=America/New_York:20160604T110000
DTSTAMP:20210513T171326
CREATED:20160604T130000Z
LAST-MODIFIED:20191201T145448Z
UID:411620-1465030800-1465038000@www.patriotguard.org
SUMMARY:Tharen McLeighton
DESCRIPTION:Tharen McLeighton\n\n\nAir Force\n\n\nThe Patriot Guard Riders have been requested to stand a flag line for A1C Tharen McLeighton. \nA1C Tharen McLeighton served in the U.S. Air Force. A1C Tharen McLeighton was based in Okinawa Japan & Hill Air Force Base. \nThis will be a Veterans format. The graveside service will be at the Ogden City Cemetery on 1875 Monroe Blvd in Ogden at 1:00 PM on Saturday\, June 04\, 2016. We will stand a flag line at the mortuary and then escort A1C Tharen McLeighton to his final resting place in the Ogden City Cemetery on 1875   Monroe Blvd in Ogden\, where we will stand another flag line. \nThe ride captain for this mission will be AC Scheer and he can be reached at: 801-540-4386.\nStaging: 11:45 AM at Maverik\, 689   Washington Blvd\, Ogden.\nKSU: 12:15 PM\nWeather: Partly cloudy with a high of 88. Please dress accordingly and keep yourself hydrated. \nThank you A1C Tharen McLeighton for your service. \nAnyone attending in a cage and willing to transport flags please contact AC Scheer at: 801-540-4386.
URL:https://www.patriotguard.org/mission/tharen-mcleighton/
CATEGORIES:Archive
END:VEVENT
END:VCALENDAR