BEGIN:VCALENDAR
VERSION:2.0
PRODID:-//Patriot Guard Riders - ECPv5.3.2.1//NONSGML v1.0//EN
CALSCALE:GREGORIAN
METHOD:PUBLISH
X-WR-CALNAME:Patriot Guard Riders
X-ORIGINAL-URL:https://www.patriotguard.org
X-WR-CALDESC:Events for Patriot Guard Riders
BEGIN:VTIMEZONE
TZID:America/New_York
BEGIN:DAYLIGHT
TZOFFSETFROM:-0500
TZOFFSETTO:-0400
TZNAME:EDT
DTSTART:20190310T070000
END:DAYLIGHT
BEGIN:STANDARD
TZOFFSETFROM:-0400
TZOFFSETTO:-0500
TZNAME:EST
DTSTART:20191103T060000
END:STANDARD
END:VTIMEZONE
BEGIN:VEVENT
DTSTART;VALUE=DATE:20190703
DTEND;VALUE=DATE:20190704
DTSTAMP:20210403T195246
CREATED:20190702T005520Z
LAST-MODIFIED:20190702T005520Z
UID:166433-1562112000-1562198399@www.patriotguard.org
SUMMARY:Thaddeus John Mazur
DESCRIPTION:  \n\nHonor Mission\nThaddeus John Mazur\, Veteran\nUSAF\nPensacola\, Florida  07-03-19\n\n\n \n\nABOUT THE MISSION: \nThe Patriot Guard has been invited by the family of TSgt Thaddeus J. Mazur; United States Air Force\, to escort and stand in his honor at Barrancas National Cemetery. TSgt Mazur was 96 years old at the time of his passing. TSgt Mazur served in the United States Air Force for 4 years and 5 months and was honorably discharged 20 Nov. 1951.The Patriot Guard will meet TSgt Mazur; family\, and friends at Olive Baptist Church\, Warrington Campus\, 103 W. Winthrop Ave\, Pensacola Fl.\n\n\nPRIMARY STAGING DETAILS: 07-03-19 \nStaging Time: 11:00 am  \nWhataburger\n1313 N. New Warrington Rd\nPensacola\, Florida\n\n\nRide Captain: \nRay Doyle\n850 902 0123\nretonaharley@gmail.com\n\n\nSpecial Instructions: \nCAUTION: The Naval Air Station requires long sleeve shirts\, long trousers\, long fingered gloves\, DOT approved helmets\, leather footwear covering the ankles\, and appropriate eye protection. This attire will always be maintained while riding aboard the base.\n\n11:45 am – Briefing for all riders\n12:00 pm – KSU to Olive Baptist Church\, 103 W. Winthrop Ave\n12:15 pm – Arrive at Olive Baptist Church\n12:45 pm – Roll time to Barrancas\n1:00 pm – Interment at Barrancas National Cemetery\n\n\nFlags & Water:\nFlags will be provided\nIf you have large bike flags\, please bring them.\nWater will be provided.\n\n\n\n\nSubmitted By: Ray Doyle \nPosition: Florida Assistant State Captain \n\nNote: You do not have to own/ride a motorcycle or be a veteran to join\, and membership is Free. The only requirement is RESPECT! To subscribe to receive mission notices\, log into the National Site and click on the Members tab at the top. Select the Subscribe to PGR Missions option.\n Print This Page
URL:https://www.patriotguard.org/mission/thaddeus-john-mazur/
CATEGORIES:Honor Mission
END:VEVENT
END:VCALENDAR