BEGIN:VCALENDAR
VERSION:2.0
PRODID:-//Patriot Guard Riders - ECPv5.3.2.1//NONSGML v1.0//EN
CALSCALE:GREGORIAN
METHOD:PUBLISH
X-WR-CALNAME:Patriot Guard Riders
X-ORIGINAL-URL:https://www.patriotguard.org
X-WR-CALDESC:Events for Patriot Guard Riders
BEGIN:VTIMEZONE
TZID:America/New_York
BEGIN:DAYLIGHT
TZOFFSETFROM:-0500
TZOFFSETTO:-0400
TZNAME:EDT
DTSTART:20190310T070000
END:DAYLIGHT
BEGIN:STANDARD
TZOFFSETFROM:-0400
TZOFFSETTO:-0500
TZNAME:EST
DTSTART:20191103T060000
END:STANDARD
END:VTIMEZONE
BEGIN:VEVENT
DTSTART;VALUE=DATE:20190713
DTEND;VALUE=DATE:20190714
DTSTAMP:20210404T023115
CREATED:20190712T210840Z
LAST-MODIFIED:20190712T211207Z
UID:167508-1562976000-1563062399@www.patriotguard.org
SUMMARY:Tervonio Raheem Coleman
DESCRIPTION:Honor Mission\nTervonio Raheem Coleman\, Active Duty\nUSA – WoT\nMulti-City\, Georgia – 07-13-19\n\n\nABOUT THE MISSION:\n\n\nSSG Tervonio Raheem Coleman tragically lost his life in a non service related incident on July 4th. His family has asked us to stand for him and we have advised them it will be our honor to be there.\n\n\nPRIMARY STAGING DETAILS: 07-13-19 \nStaging Time: 12:00 pm \nC.J. Edwards Funeral Home\n409 Preston Street\nFort Valley\, Georgia 31030\nMap\n\n\nRide Captain: \nLee “vulcangunner” Love\nvulcangunner2@windstream.net\n(478) 952-2097\n\n\nSpecial Instructions: \nA static flag line will be set up for the visitation from 1:00 pm until 7:00 pm. If anyone would like to stand by the door for portions of this time you are welcome to do so. If you plan to stand please let Lee Love know so he can have flags available.\n\n\nFlags & Water:\nFlags will be provided\nLarge Bike Flags will NOT be needed.\nWater WILL NOT be provided\, please bring your own.\n\nSTAGING #2 DETAILS: 07-15-19 \nStaging Time: 09:30 am \nMagnolia Baptist Church\n415 Hosie Waters Street\nMontezuma\, Georgia 31063\nMap\n\n\nRide Captain: \nLeon ‘River Rat’ McLamb\nmcla549@bellsouth.net\n(706) 836-6104\n\n\nSpecial Instructions: \nWe will stand a flag line as family and friends arrive for the 11:00 am service. After the service begins\, we will prepare for the escort to Andersonville National Cemetery.\n\n\nFlags & Water:\nFlags will be provided\nIf you have large bike flags\, please bring them.\nWater WILL NOT be provided\, please bring your own.\n\nSTAGING #3 DETAILS: 07-15-19 \nStaging Time: 1:30 pm \nAndersonville National Cemetery\n496 Cemetery Road\nAndersonville\, Georgia 31711\n\n\nRide Captain: \nLeon ‘River Rat’ McLamb\nmcla549@bellsouth.net\n(706) 836-6104\n\n\nSpecial Instructions: \nStage at the funeral cemetery entrance and await the arrival of the procession. We will stand a flag line during the committal service with military honors beginning at 2:00 pm.\n\n\nFlags & Water:\nFlags will be provided\nLarge Bike Flags will NOT be needed.\nWater WILL NOT be provided\, please bring your own.\n\n\n\nSubmitted By: Leon McLamb \nPosition: Georgia Assistant State Captain \n\nNote: You do not have to own/ride a motorcycle or be a veteran to join\, and membership is Free. The only requirement is RESPECT! To subscribe to receive mission notices\, log into the National Site and click on the Members tab at the top. Select the Subscribe to PGR Missions option.\n Print This Page
URL:https://www.patriotguard.org/mission/tervonio-raheem-coleman/2019-07-13/
CATEGORIES:Honor Mission
END:VEVENT
END:VCALENDAR