BEGIN:VCALENDAR
VERSION:2.0
PRODID:-//Patriot Guard Riders - ECPv5.3.2.1//NONSGML v1.0//EN
CALSCALE:GREGORIAN
METHOD:PUBLISH
X-WR-CALNAME:Patriot Guard Riders
X-ORIGINAL-URL:https://www.patriotguard.org
X-WR-CALDESC:Events for Patriot Guard Riders
BEGIN:VTIMEZONE
TZID:America/New_York
BEGIN:DAYLIGHT
TZOFFSETFROM:-0500
TZOFFSETTO:-0400
TZNAME:EDT
DTSTART:20190310T070000
END:DAYLIGHT
BEGIN:STANDARD
TZOFFSETFROM:-0400
TZOFFSETTO:-0500
TZNAME:EST
DTSTART:20191103T060000
END:STANDARD
END:VTIMEZONE
BEGIN:VEVENT
DTSTART;VALUE=DATE:20190824
DTEND;VALUE=DATE:20190825
DTSTAMP:20210402T103810
CREATED:20190823T043147Z
LAST-MODIFIED:20190823T043147Z
UID:171698-1566604800-1566691199@www.patriotguard.org
SUMMARY:Terry Wayne Raney
DESCRIPTION:Honor Mission\nTerry Wayne Raney\, Veteran\nUSN –\nDallas\, Texas – 08-24-19\n\n\n\nABOUT THE MISSION: \nFuneral\, Procession to Adjacent Cemetery\, Interment. Mr. Raney honorably served from July 1965 to July 1969 and acquired the rank of Communications Technician Petty Officer 3rd Class.\n\n\nPRIMARY STAGING DETAILS: 08-24-19 \nStaging Time: 09:00 AM\n \nLaurel Land\n6300 South R.L. Thornton Freeway\nDallas\, Texas 75232\n\n\nRide Captain: \nRick Elliott\nrick.elliott@yahoo.com\n(214) 356-7535\n\n\nSpecial Instructions: \nInterment Staging Time 0900\nBriefing Time 0915\nIn Position/KSU Time 0930\nStarting Time 1000\nRiders will stage at the Funeral home\, After the Mission Brief\, Riders will stand the Flag Line and await the arrival of family and friends. When directed\, the Riders will return the flags to the support vehicle\, receive the Safety Brief and prepare to accompany the procession to the adjacent cemetery. Riders not participating in the procession will proceed to the nearby grave site and assist with setting up the flags. Riders will stand a Flag line during the interment. After the service Flags will be returned to the support vehicle. Riders will be debriefed and dismissed.\n\n\nFlags & Water:\nFlags will be provided\nIf you have large bike flags\, please bring them.\nWater will be provided.\n\n\n\nSubmitted By: Dan Mathys \nPosition: Texas Ride Captain \n\nNote: You do not have to own/ride a motorcycle or be a veteran to join\, and membership is Free. The only requirement is RESPECT! To subscribe to receive mission notices\, log into the National Site and click on the Members tab at the top. Select the Subscribe to PGR Missions option.\n Print This Page
URL:https://www.patriotguard.org/mission/terry-wayne-raney/
CATEGORIES:Honor Mission
END:VEVENT
END:VCALENDAR