BEGIN:VCALENDAR
VERSION:2.0
PRODID:-//Patriot Guard Riders - ECPv5.3.2.1//NONSGML v1.0//EN
CALSCALE:GREGORIAN
METHOD:PUBLISH
X-WR-CALNAME:Patriot Guard Riders
X-ORIGINAL-URL:https://www.patriotguard.org
X-WR-CALDESC:Events for Patriot Guard Riders
BEGIN:VTIMEZONE
TZID:America/New_York
BEGIN:DAYLIGHT
TZOFFSETFROM:-0500
TZOFFSETTO:-0400
TZNAME:EDT
DTSTART:20190310T070000
END:DAYLIGHT
BEGIN:STANDARD
TZOFFSETFROM:-0400
TZOFFSETTO:-0500
TZNAME:EST
DTSTART:20191103T060000
END:STANDARD
END:VTIMEZONE
BEGIN:VEVENT
DTSTART;VALUE=DATE:20190926
DTEND;VALUE=DATE:20190927
DTSTAMP:20210401T020910
CREATED:20190924T142429Z
LAST-MODIFIED:20190924T142429Z
UID:176183-1569456000-1569542399@www.patriotguard.org
SUMMARY:Terry Wayne Dunn
DESCRIPTION:Honor Mission\nTerry Wayne Dunn\nUSA –\nNicholasville\, Kentucky – 09-26-19\n\n\n\nABOUT THE MISSION: \nWe have been asked by the family of Corporal Terry Dun\,n US Army\, to escort him to his final resting place and stand in his honor.\n\n\nPRIMARY STAGING DETAILS: 09-26-19 \nStaging Time: 1:45 PM\n \nBetts & West Funeral Home\n404 North Main Street\nNicholasville\, Kentucky 40356\n\n\nRide Captain: \nRon Goens\n859-339-8311\n\n\nSpecial Instructions: \nEscort to Camp Nelson National Cemetery.\nKSU 2:00 pm for 2:30 pm service there.\n\n\nFlags & Water:\nFlags will be provided\nIf you have large bike flags\, please bring them.\nWater WILL NOT be provided\, please bring your own.\n\n\n\nSubmitted By: Kelly Shehan \nPosition: Kentucky Ride Captain \n\nNote: You do not have to own/ride a motorcycle or be a veteran to join\, and membership is Free. The only requirement is RESPECT! To subscribe to receive mission notices\, log into the National Site and click on the Members tab at the top. Select the Subscribe to PGR Missions option.\n Print This Page
URL:https://www.patriotguard.org/mission/terry-wayne-dunn/
CATEGORIES:Honor Mission
END:VEVENT
END:VCALENDAR