BEGIN:VCALENDAR
VERSION:2.0
PRODID:-//Patriot Guard Riders - ECPv5.3.2.1//NONSGML v1.0//EN
CALSCALE:GREGORIAN
METHOD:PUBLISH
X-WR-CALNAME:Patriot Guard Riders
X-ORIGINAL-URL:https://www.patriotguard.org
X-WR-CALDESC:Events for Patriot Guard Riders
BEGIN:VTIMEZONE
TZID:America/New_York
BEGIN:DAYLIGHT
TZOFFSETFROM:-0500
TZOFFSETTO:-0400
TZNAME:EDT
DTSTART:20190310T070000
END:DAYLIGHT
BEGIN:STANDARD
TZOFFSETFROM:-0400
TZOFFSETTO:-0500
TZNAME:EST
DTSTART:20191103T060000
END:STANDARD
END:VTIMEZONE
BEGIN:VEVENT
DTSTART;VALUE=DATE:20190910
DTEND;VALUE=DATE:20190911
DTSTAMP:20210401T074133
CREATED:20190908T172608Z
LAST-MODIFIED:20190908T172608Z
UID:172966-1568073600-1568159999@www.patriotguard.org
SUMMARY:Terry Joseph Gilbert
DESCRIPTION:Honor Mission\nTerry Joseph Gilbert\, Veteran\nUSA – Vietnam\nHolly\, Michigan – 09-10-19\n\n\n\nABOUT THE MISSION: \nThe Family of Terry Joseph Gilbert\, 68\, has invited the Patriot Guard Riders to stand a silent flag line honoring his service to our Country. Terry proudly served in the US Army during the Vietnam War and was a Purple Heart recipient. After being discharged in 1971\, he began working for General Motors as a third shift supervisor in shipping and receiving with Truck and Bus with 40 years of service. He was an avid fisherman and a charter fishing boat captain. Survived by his Wife\, 1 Daughter and 1 Son.\nObituary\n\n\nPRIMARY STAGING DETAILS: 09-10-19 \nStaging Time: 08:15  \nMcDonald’s\n15187 N. Holly Rd.\nHolly\, Michigan 48442\nMap\n\n\nRide Captain: \nSKEETER\n586-524-8083\ncarolp412@att.net\n\n\nSpecial Instructions: \nBriefing: 8:45 AM\nKSU: 9:05 AM\nService: 9:30 AM\nPlease bring your 3’ x 5’ American Flag to Stand for Terry’s service to our Country.\n\n\nFlags & Water:\nFlags will not be provided\nLarge Bike Flags will NOT be needed.\nWater WILL NOT be provided\, please bring your own.\n\n\n\nSubmitted By: Terrence Laurencelle \nPosition: Michigan Ride Captain \n\nNote: You do not have to own/ride a motorcycle or be a veteran to join\, and membership is Free. The only requirement is RESPECT! To subscribe to receive mission notices\, log into the National Site and click on the Members tab at the top. Select the Subscribe to PGR Missions option.\n Print This Page
URL:https://www.patriotguard.org/mission/terry-joseph-gilbert/
CATEGORIES:Honor Mission
END:VEVENT
END:VCALENDAR