BEGIN:VCALENDAR
VERSION:2.0
PRODID:-//Patriot Guard Riders - ECPv5.6.0//NONSGML v1.0//EN
CALSCALE:GREGORIAN
METHOD:PUBLISH
X-WR-CALNAME:Patriot Guard Riders
X-ORIGINAL-URL:https://www.patriotguard.org
X-WR-CALDESC:Events for Patriot Guard Riders
BEGIN:VTIMEZONE
TZID:America/New_York
BEGIN:DAYLIGHT
TZOFFSETFROM:-0500
TZOFFSETTO:-0400
TZNAME:EDT
DTSTART:20160313T070000
END:DAYLIGHT
BEGIN:STANDARD
TZOFFSETFROM:-0400
TZOFFSETTO:-0500
TZNAME:EST
DTSTART:20161106T060000
END:STANDARD
END:VTIMEZONE
BEGIN:VEVENT
DTSTART;TZID=America/New_York:20160715T090000
DTEND;TZID=America/New_York:20160715T110000
DTSTAMP:20210513T000232
CREATED:20160715T130000Z
LAST-MODIFIED:20191201T144344Z
UID:410620-1468573200-1468580400@www.patriotguard.org
SUMMARY:Terry Joe Wallace\, Sr.\, 67\, USMC\, Vietnam / Beverly
DESCRIPTION:HONOR MISSION\nLCpl Terry Joe “Paw Paw” Wallace\, Sr.\, 67\nCoal Run\, Ohio\nUnited States Marine Corps Vietnam Veteran\nD Company\,1st Battalion\,7th Marine Regiment\, 1st Marine Division \n[ATTACH=CONFIG]4919[/ATTACH]\n\n\n\nHonor Escort Staging Location:\nFort Frye High School\n420 5th Street\nBeverly\, Ohio 45715\nStaging: 15 July  2016@0845hrs-(8:45 AM) \nMap from School to Cemetery: https://binged.it/29z9BHD \nGraveside Service:\nGreenlawn Cemetery\n1035 Greenlawn Lane\nLowell\, Ohio 45744\nService: 15 July 2016@1000hrs-(10 AM)\nStaging 15 July 2016@ 0930hrs-(9:30 AM) if not riding in the escort \nDist. # 9 Captain Sándor Végh is assigned this mission of Honor and Respect. Please follow his instructions. Dress per the weather conditions. Remember your 3’x5’ American flags. Use your own judgment on how you get safely to and from the mission. If you need to contact Sándor email him at: Sandor.Vegh@edwardjones.com.\n \n\n“Rest in Peace LCpl Wallace\, Sr.”\n[ATTACH=CONFIG]4920[/ATTACH]
URL:https://www.patriotguard.org/mission/terry-joe-wallace-sr-67-usmc-vietnam-beverly/
CATEGORIES:Archive
END:VEVENT
END:VCALENDAR