BEGIN:VCALENDAR
VERSION:2.0
PRODID:-//Patriot Guard Riders - ECPv5.6.0//NONSGML v1.0//EN
CALSCALE:GREGORIAN
METHOD:PUBLISH
X-WR-CALNAME:Patriot Guard Riders
X-ORIGINAL-URL:https://www.patriotguard.org
X-WR-CALDESC:Events for Patriot Guard Riders
BEGIN:VTIMEZONE
TZID:America/New_York
BEGIN:DAYLIGHT
TZOFFSETFROM:-0500
TZOFFSETTO:-0400
TZNAME:EDT
DTSTART:20160313T070000
END:DAYLIGHT
BEGIN:STANDARD
TZOFFSETFROM:-0400
TZOFFSETTO:-0500
TZNAME:EST
DTSTART:20161106T060000
END:STANDARD
END:VTIMEZONE
BEGIN:VEVENT
DTSTART;TZID=America/New_York:20160622T090000
DTEND;TZID=America/New_York:20160622T110000
DTSTAMP:20210513T180245
CREATED:20160622T130000Z
LAST-MODIFIED:20191201T144923Z
UID:411135-1466586000-1466593200@www.patriotguard.org
SUMMARY:Terry F. McCarthy\, USN\, Vietnam / Queensbury
DESCRIPTION:Members:\n\nThe family of Terry F. McCarthy has requested the participation of the Patriot Guard Riders in the military honors funeral for their Dad.  \nPatriot Guard Riders have been requested to be Paul Bearers. If you are willing please let the RC know. \nWHEN / WHERE;\nWednesday June 22nd\nQueensbury\, NY\n\nFlag line for arrival of family for calling hour\, short prayer service then dignified transfer and escort to:\nMorningside Cemetery\nHartford NY\n\nLRC \nGene Jones\nrem2arms @aol.com \nTerry achieved the rank of E-7 in the US Navy and served a tour in Vietnam.  We will be honored to assist the family and to render honor\, dignity and respect for the life and service of Terry McCarthy.
URL:https://www.patriotguard.org/mission/terry-f-mccarthy-usn-vietnam-queensbury/
CATEGORIES:Archive
END:VEVENT
END:VCALENDAR