BEGIN:VCALENDAR
VERSION:2.0
PRODID:-//Patriot Guard Riders - ECPv5.6.0//NONSGML v1.0//EN
CALSCALE:GREGORIAN
METHOD:PUBLISH
X-WR-CALNAME:Patriot Guard Riders
X-ORIGINAL-URL:https://www.patriotguard.org
X-WR-CALDESC:Events for Patriot Guard Riders
BEGIN:VTIMEZONE
TZID:America/New_York
BEGIN:DAYLIGHT
TZOFFSETFROM:-0500
TZOFFSETTO:-0400
TZNAME:EDT
DTSTART:20140309T070000
END:DAYLIGHT
BEGIN:STANDARD
TZOFFSETFROM:-0400
TZOFFSETTO:-0500
TZNAME:EST
DTSTART:20141102T060000
END:STANDARD
END:VTIMEZONE
BEGIN:VEVENT
DTSTART;TZID=America/New_York:20140919T090000
DTEND;TZID=America/New_York:20140919T110000
DTSTAMP:20210513T041526
CREATED:20140919T130000Z
LAST-MODIFIED:20191201T131808Z
UID:399433-1411117200-1411124400@www.patriotguard.org
SUMMARY:Terry D. Wallace
DESCRIPTION:PATRIOT GUARD RIDERS\nYOUR PRESENCE HAS BEEN REQUESTED\nUnited States Marine SGT Terry D. Wallace\nDATE: 19 September 2014\nLOCATION: Garden City\, KS\n\n\nThe Family of US Marine SGT Terry D. Wallace has requested your presence to honor his service to his country and escort him to his final resting place. Terry served our country from 1977 – 1982. Stationed in Okinawa during that time. \nStaging:\n1330 (1:30 pm) Stage at the Church of the Nazarene\, 2720 North Campus Drive in Garden City\, KS\n1400 (2:00 pm) Service Starts \n—\nGlen Travers\nPGR Ride Captain\nGarden City\, Ks\nglentravers@gmail.com
URL:https://www.patriotguard.org/mission/terry-d-wallace/
CATEGORIES:Archive
END:VEVENT
END:VCALENDAR