BEGIN:VCALENDAR
VERSION:2.0
PRODID:-//Patriot Guard Riders - ECPv5.3.2.1//NONSGML v1.0//EN
CALSCALE:GREGORIAN
METHOD:PUBLISH
X-WR-CALNAME:Patriot Guard Riders
X-ORIGINAL-URL:https://www.patriotguard.org
X-WR-CALDESC:Events for Patriot Guard Riders
BEGIN:VTIMEZONE
TZID:America/New_York
BEGIN:DAYLIGHT
TZOFFSETFROM:-0500
TZOFFSETTO:-0400
TZNAME:EDT
DTSTART:20170312T070000
END:DAYLIGHT
BEGIN:STANDARD
TZOFFSETFROM:-0400
TZOFFSETTO:-0500
TZNAME:EST
DTSTART:20171105T060000
END:STANDARD
END:VTIMEZONE
BEGIN:VEVENT
DTSTART;TZID=America/New_York:20170728T113000
DTEND;TZID=America/New_York:20170728T133000
DTSTAMP:20210401T200820
CREATED:20170728T153000Z
LAST-MODIFIED:20191201T030759Z
UID:312407-1501241400-1501248600@www.patriotguard.org
SUMMARY:Terry D. Hatcher\, Veteran\, USN
DESCRIPTION:Terry D. Hatcher\, Veteran \nUSN \nDenver\, Colorado – 28 Jul 2017\n\n[HR][/HR]\nABOUT THE MISSION: \nThe Patriot Guard Riders have been invited to stand in honor at the Interment Service for Terry D. Hatcher at Fort Logan National Cemetery\, 3698 South Sheridan Blvd.\, Denver on Friday\, July 28\, 2017\, at 12:15 PM\, Committal Shelter C. \nMr. Hatcher was born on August 15\, 1965 and died on May 30\, 2016 at the age of 50. He was a Veteran of the US Navy who served from 1985 until 1989. He and his wife\, Rhonda\, 49\, were killed in a tragic traffic incident. A vehicle went off the highway to the right\, overcorrected\, and veered into the lane with oncoming traffic. The Hatchers were the victims of this crash. \n11:30AM – Stage at the Fort Logan Visitors Center\n11:45AM – Mission Briefing\n** NOON* – Depart for Committal Shelter*C to form Flag Line \nPRIMARY STAGING DETAILS: 28 Jul 2017 \n \nPrimary Staging Time: 11:30 A.M.\n\nFort Logan National Cemetery Visitors Center\n\nDenver\, Colorado – 80236\n\n\n\n \nRide Captain:\n\nRC To Be Determined\n\n \nSpecial Instructions:\n\n\n\n \n \nFlags & Water:\n\nFlags Will Be Provided\n\nLarge Bike Flags will NOT be needed.\n\nWater will be provided.\n\n\nSubmitted By: Jim Herstein\nPosition: State HOTH Coordinator \n[HR][/HR]\nNote:\nYou do not have to own/ride a motorcycle or be a Veteran to join and membership is Free. The only requirement is RESPECT! To join\, simply go to www.PatriotGuard.org and click on Register. Membership is Free. \nTo subscribe to receive mission notices\, log into the National Site and click on the Mission Tab at the top. Select Upcoming Missions by State. Scroll to the state(s) you would like to receive notices for and click on the green check mark. Detailed instructions are also located in the FAQs on the site by clicking on the Quick Links Tab and selecting FAQs.
URL:https://www.patriotguard.org/mission/terry-d-hatcher-veteran-usn/
LOCATION:Thomas Burns
END:VEVENT
END:VCALENDAR