BEGIN:VCALENDAR
VERSION:2.0
PRODID:-//Patriot Guard Riders - ECPv5.3.2.1//NONSGML v1.0//EN
CALSCALE:GREGORIAN
METHOD:PUBLISH
X-WR-CALNAME:Patriot Guard Riders
X-ORIGINAL-URL:https://www.patriotguard.org
X-WR-CALDESC:Events for Patriot Guard Riders
BEGIN:VTIMEZONE
TZID:America/New_York
BEGIN:DAYLIGHT
TZOFFSETFROM:-0500
TZOFFSETTO:-0400
TZNAME:EDT
DTSTART:20190310T070000
END:DAYLIGHT
BEGIN:STANDARD
TZOFFSETFROM:-0400
TZOFFSETTO:-0500
TZNAME:EST
DTSTART:20191103T060000
END:STANDARD
END:VTIMEZONE
BEGIN:VEVENT
DTSTART;VALUE=DATE:20190917
DTEND;VALUE=DATE:20190918
DTSTAMP:20210401T102322
CREATED:20190915T161101Z
LAST-MODIFIED:20190915T161101Z
UID:173665-1568678400-1568764799@www.patriotguard.org
SUMMARY:Terrence Michael Kane
DESCRIPTION:Honor Mission\nTerrence Michael Kane\, Veteran\nUSMC – Vietnam\nHolly\, Michigan – 09-17-19\n\n\n\nABOUT THE MISSION: \nThe family of Cpl/E-4 Terrence Michael Kane\, 71\, has invited the Patriot Guard Riders to stand a silent flag line in honor of his service to our country. Cpl Kane was a United States Marine with the HqBtry\, 1stBn\, 10thMar\, 2ndMarDiv\, FMF\, CLNC. He served in Vietnam as a Radio Repairman. He was awarded the following decorations/awards; National Defense Service Medal\, Vietnam Service Medal W/1 Star\, Vietnam Campaign Medal W/Device. He is survived by his wife\, four sons and one daughter.\nObituary\n\n\nPRIMARY STAGING DETAILS: 09-17-19 \nStaging Time: 12:20 PM\n \nHolly McDonalds\n15187 N. Holly Rd\nHolly\, Michigan 48442\nMap\n\n\nRide Captain: \n“Viper”\n586-873-5096\nkta422@hotmail.com\n\n\nSpecial Instructions: \nBrief: 12:50 PM\nKSU: 1:05 PM\nService: 1:30 PM\nPlease bring your 3′ X 5′ American Flags to stand for Cpl Kane.\n\n\nFlags & Water:\nFlags will not be provided\nLarge Bike Flags will NOT be needed.\nWater WILL NOT be provided\, please bring your own.\n\n\n\nSubmitted By: Kenneth Talant \nPosition: Michigan Assistant State Captain \n\nNote: You do not have to own/ride a motorcycle or be a veteran to join\, and membership is Free. The only requirement is RESPECT! To subscribe to receive mission notices\, log into the National Site and click on the Members tab at the top. Select the Subscribe to PGR Missions option.\n Print This Page
URL:https://www.patriotguard.org/mission/terrence-michael-kane/
CATEGORIES:Honor Mission
END:VEVENT
END:VCALENDAR