BEGIN:VCALENDAR
VERSION:2.0
PRODID:-//Patriot Guard Riders - ECPv5.3.2.1//NONSGML v1.0//EN
CALSCALE:GREGORIAN
METHOD:PUBLISH
X-WR-CALNAME:Patriot Guard Riders
X-ORIGINAL-URL:https://www.patriotguard.org
X-WR-CALDESC:Events for Patriot Guard Riders
BEGIN:VTIMEZONE
TZID:America/New_York
BEGIN:DAYLIGHT
TZOFFSETFROM:-0500
TZOFFSETTO:-0400
TZNAME:EDT
DTSTART:20190310T070000
END:DAYLIGHT
BEGIN:STANDARD
TZOFFSETFROM:-0400
TZOFFSETTO:-0500
TZNAME:EST
DTSTART:20191103T060000
END:STANDARD
END:VTIMEZONE
BEGIN:VEVENT
DTSTART;VALUE=DATE:20190828
DTEND;VALUE=DATE:20190829
DTSTAMP:20210402T150133
CREATED:20190825T142810Z
LAST-MODIFIED:20190825T142810Z
UID:171851-1566950400-1567036799@www.patriotguard.org
SUMMARY:Terrence Eugene Hudson
DESCRIPTION:Honor Mission\nTerrence Eugene Hudson \, Retired\nUSA\nFort Bragg\, North Carolina – 08-28-19\n\n\n\n\nABOUT THE MISSION: \nSFC Terrence Eugene Hudson\, (Retired) 52 of Fayetteville. SFC Hudson served many tours of duty overseas and supported POW/MIA missions in Southwest Asia Countries\, Vietnam\, Laos\, North Korea\, and Cambodia. He served for 21 years and after retirement worked for the Department of the Army in Hawaii as the Mortuary Affairs Coordinator. In 2014 he came back to Fort Bragg as the Mortuary Affairs Coordinator and was recently promoted to the Casualty Operations Coordinator. SFC Hudsons awards and decorations include the Meritorious Service Medal\, (4th Award)\, Joint Service Commendation Medal\, Army Commendation Medal\, (4th Award)\, Joint Service Achievement Medal\, Army Achievement Medal\, (3rd Award)\, Air Force Achievement Medal\, Joint Meritorious Unit Award\, Army Good Conduct Award\, (6th Award)\, National Defense Service Medal\, Global War on Terrorism Service Medal\, Korea Defense Service Medal\, Non Commissioned Officer Professional Development Ribbon\, Army Service Ribbon\, Overseas Service Ribbon\, Driver and Mechanic Badge\, Basic Marksmanship Qualifications Badge.\n\n\nPRIMARY STAGING DETAILS: 08-28-19 \nStaging Time: 08:15 am \nAll American Chapel Building “C”\n7242 Ardennes Street\nFort Bragg\, North Carolina 28307\n\n\nRide Captain: \nE. Glenn (DocB) Butler\ngbutret@aol.com\n301-275-6676\n\n\nSpecial Instructions: \nStaging: 8:15 am Briefing: 8:45 am Flag Line: 9:00am – 10:00 am Anyone who does not hold a DOD ID card must access post from the All American Freeway Visitor Control Center and obtain a pass. Remember to allow extra time for check-in and that vehicle and persons are subject to search. You will be entering a US military installation so anything that could be considered a weapon should be left at home. If you are riding\, please keep in mind the requirements for documentation and proper PPE; license with motorcycle endorsement\, insurance\, registration\, and DOT approved helmet\, eye protection\, long sleeves\, full-fingered gloves\, long pants\, over the ankle boots.\n\nFlags & Water:\nFlags will be provided\nLarge Bike Flags will NOT be needed.\nWater will be provided.\n\nSTAGING #2 DETAILS: 09-04-19 \nStaging Time: 5:15  pm \nLaFayette Funeral Home\n6651 Raeford Road\nFayetteville\, North Carolina 28304\n\n\nRide Captain: \nSteve “Scooper” Havens\nt919-793-7296\nkodakracing@yahoo.com\n\n\nSpecial Instructions: \nFlag line only Staging: 5:15 pm Briefing: 5:40 pm Flag Line: 6:00 pm – 8:00 pm\n\nFlags & Water:\nFlags will be provided\nLarge Bike Flags will NOT be needed.\nWater will be provided.\n\n\n\nSubmitted By: Steve Havens \nPosition: North Carolina Ride Captain \n\nNote: You do not have to own/ride a motorcycle or be a veteran to join\, and membership is Free. The only requirement is RESPECT! To subscribe to receive mission notices\, log into the National Site and click on the Members tab at the top. Select the Subscribe to PGR Missions option.\n Print This Page
URL:https://www.patriotguard.org/mission/terrence-eugene-hudson/
CATEGORIES:Honor Mission
END:VEVENT
END:VCALENDAR