BEGIN:VCALENDAR
VERSION:2.0
PRODID:-//Patriot Guard Riders - ECPv5.3.2.1//NONSGML v1.0//EN
CALSCALE:GREGORIAN
METHOD:PUBLISH
X-WR-CALNAME:Patriot Guard Riders
X-ORIGINAL-URL:https://www.patriotguard.org
X-WR-CALDESC:Events for Patriot Guard Riders
BEGIN:VTIMEZONE
TZID:America/New_York
BEGIN:DAYLIGHT
TZOFFSETFROM:-0500
TZOFFSETTO:-0400
TZNAME:EDT
DTSTART:20190310T070000
END:DAYLIGHT
BEGIN:STANDARD
TZOFFSETFROM:-0400
TZOFFSETTO:-0500
TZNAME:EST
DTSTART:20191103T060000
END:STANDARD
END:VTIMEZONE
BEGIN:VEVENT
DTSTART;VALUE=DATE:20190703
DTEND;VALUE=DATE:20190704
DTSTAMP:20210404T053134
CREATED:20190702T104228Z
LAST-MODIFIED:20190702T104228Z
UID:166415-1562112000-1562198399@www.patriotguard.org
SUMMARY:Terr S Phillips
DESCRIPTION:Honor Mission\nTerry S. Phillips\, Veteran\nUSA – Vietnam\nBixby\, Oklahoma – 07-03-19\n\n\n\n\nABOUT THE MISSION: \nThe family of Terry Stanley Phillips\, USA Vietnam veteran\, has asked the Patriot Guard Riders to stand a flag line at his funeral service to be held on Wednesday July 3\, 2019 in Bixby\, OK.\n\n\nPRIMARY STAGING DETAILS: 07-03-19 \nStaging Time: 1:00 p.m. \n15801 S\, Memorial Dr.\nBixby\, Oklahoma 74008\n\n\nRide Captain: \nJerry “BuzzardBait” Chiappini\, gchip@msn.com\, 918-407-9718\n\n\nSpecial Instructions: \nServices will be held at the Bixby Free Will Baptist Church\, 15801 S. Memorial Dr.\, Bixby\, OK at 2:00 pm. The PGR will accompany the hero to Duck Creek Cemetery where military honors and PGR presentations will take place. \n\nFlags & Water:\nFlags will be provided\nIf you have large bike flags\, please bring them.\nWater WILL NOT be provided\, please bring your own.\n\n\nSubmitted By: Jerry Chiappini \nPosition: Oklahoma Ride Captain \n\nNote: You do not have to own/ride a motorcycle or be a veteran to join\, and membership is Free. The only requirement is RESPECT! To subscribe to receive mission notices\, log into the National Site and click on the Members tab at the top. Select the Subscribe to PGR Missions option.\n Print This Page
URL:https://www.patriotguard.org/mission/terr-s-phillips/
CATEGORIES:Honor Mission
END:VEVENT
END:VCALENDAR