BEGIN:VCALENDAR
VERSION:2.0
PRODID:-//Patriot Guard Riders - ECPv5.6.0//NONSGML v1.0//EN
CALSCALE:GREGORIAN
METHOD:PUBLISH
X-WR-CALNAME:Patriot Guard Riders
X-ORIGINAL-URL:https://www.patriotguard.org
X-WR-CALDESC:Events for Patriot Guard Riders
BEGIN:VTIMEZONE
TZID:America/New_York
BEGIN:DAYLIGHT
TZOFFSETFROM:-0500
TZOFFSETTO:-0400
TZNAME:EDT
DTSTART:20160313T070000
END:DAYLIGHT
BEGIN:STANDARD
TZOFFSETFROM:-0400
TZOFFSETTO:-0500
TZNAME:EST
DTSTART:20161106T060000
END:STANDARD
END:VTIMEZONE
BEGIN:VEVENT
DTSTART;TZID=America/New_York:20160629T090000
DTEND;TZID=America/New_York:20160629T110000
DTSTAMP:20210512T170018
CREATED:20160629T130000Z
LAST-MODIFIED:20191201T144740Z
UID:410981-1467190800-1467198000@www.patriotguard.org
SUMMARY:T. Wayne Hall\, 70\, USA
DESCRIPTION:US Army Vietnam Veteran T. Wayne Hall – 70\nChickasaw Hill Pavilion; Enid Lake\, Mississippi\nWednesday 29 June 2016\n\n\n\nThe family of Mr. T. Wayne Hall has requested the PATRIOT GUARD RIDERS pay tribute and honor to him for his dedicated service to our country. \nWayne served with Honor and Distinction in Vietnam as a Helicopter Pilot (Slick) of a UH-1D Huey with the 134th Assault Helicopter Company\, the Demon Devils. His many citations\, medals and awards include the BRONZE STAR\, PURPLE HEART\, VIETNAM SERVICE MEDAL and the NATIONAL DEFENSE SERVICE MEDAL. Mr. Hall was a 100% Disabled Veteran. \nIt will indeed be an honor to stand for this hero ! \nPRIMARY STAGING:  Wednesday 29 June 2016 at 3:30 PM at the CHICKASAW HILL PAVILION; 264 CR 39; Enid Lake; Enid\, MS 38927\, the PGR will provide a silent US Flag line for a Memorial Service beginning at 4:00 PM. \nNOTE:  The Ride Captain will lead a group of motorcycles to the Hall home and escort Mr. Hall and his family to the Pavilion\, arriving in time for the Memorial Service. Please call the Ride Captain for staging time\, location and instructions for that escort. \nThose wishing to meet at the Pavilion\, the GPS coordinates are 34.16389\, -89.82222. \nPlease join us as we STAND FOR ONE WHO STOOD FOR US ! \nRC Curtis “CurtDog” Lauderdale\n662.609.1874
URL:https://www.patriotguard.org/mission/t-wayne-hall-70-usa/
CATEGORIES:Archive
END:VEVENT
END:VCALENDAR