BEGIN:VCALENDAR
VERSION:2.0
PRODID:-//Patriot Guard Riders - ECPv5.3.2.1//NONSGML v1.0//EN
CALSCALE:GREGORIAN
METHOD:PUBLISH
X-WR-CALNAME:Patriot Guard Riders
X-ORIGINAL-URL:https://www.patriotguard.org
X-WR-CALDESC:Events for Patriot Guard Riders
BEGIN:VTIMEZONE
TZID:America/New_York
BEGIN:DAYLIGHT
TZOFFSETFROM:-0500
TZOFFSETTO:-0400
TZNAME:EDT
DTSTART:20190310T070000
END:DAYLIGHT
BEGIN:STANDARD
TZOFFSETFROM:-0400
TZOFFSETTO:-0500
TZNAME:EST
DTSTART:20191103T060000
END:STANDARD
END:VTIMEZONE
BEGIN:VEVENT
DTSTART;VALUE=DATE:20190828
DTEND;VALUE=DATE:20190829
DTSTAMP:20210402T073317
CREATED:20190821T203951Z
LAST-MODIFIED:20190821T203951Z
UID:171552-1566950400-1567036799@www.patriotguard.org
SUMMARY:Support the Joint Veterans Support Committee - FNC
DESCRIPTION:  \n\nHOTH Mission\nSupport the Joint Veterans Support Committee – FNC\n\nThe Villages\, Florida  08-28-19\n\n\n\n\nABOUT THE MISSION: \nThe Joint Veterans Support Committee for Florida National Cemetery (FNC) has graciously requested the Patriot Guard Riders presence as they roll out the Monument Project for the cemetery. These monuments are to be placed at the Freedom Memorial Plaza at FNC to further honor those heroes laid to rest there. Please bring your 3 X 5 American flags and stand in honor and respect for these heroes.\n\n\nPRIMARY STAGING DETAILS: 08-28-19 \nStaging Time: 2:00  PM  \nEisenhower Regional Recreation Center\n3560 Buena Vista Blvd\nThe Villages\, Florida 32163\nhttp://tinyurl.com/yy96ujbp\n\n\nRide Captain: \nMichael “ASA” Brown\nFloppyspop@yahoo.com\n215-805-7460\n\n\nSpecial Instructions: \n2:15 PM – Brief\n2:30 PM – Flag Line\n3:00 PM – Ceremony\n\n\nFlags & Water:\nFlags will not be provided\nLarge Bike Flags will NOT be needed.\nWater WILL NOT be provided\, please bring your own.\n  \n\n\n\nSubmitted By: Bernie Conner \nPosition: Florida Assistant State Captain \n\nNote: You do not have to own/ride a motorcycle or be a veteran to join\, and membership is Free. The only requirement is RESPECT! To subscribe to receive mission notices\, log into the National Site and click on the Members tab at the top. Select the Subscribe to PGR Missions option.\n Print This Page
URL:https://www.patriotguard.org/mission/support-the-joint-veterans-support-committee-fnc/
CATEGORIES:HOTH Mission
END:VEVENT
END:VCALENDAR