BEGIN:VCALENDAR
VERSION:2.0
PRODID:-//Patriot Guard Riders - ECPv5.3.2.1//NONSGML v1.0//EN
CALSCALE:GREGORIAN
METHOD:PUBLISH
X-WR-CALNAME:Patriot Guard Riders
X-ORIGINAL-URL:https://www.patriotguard.org
X-WR-CALDESC:Events for Patriot Guard Riders
BEGIN:VTIMEZONE
TZID:America/New_York
BEGIN:DAYLIGHT
TZOFFSETFROM:-0500
TZOFFSETTO:-0400
TZNAME:EDT
DTSTART:20190310T070000
END:DAYLIGHT
BEGIN:STANDARD
TZOFFSETFROM:-0400
TZOFFSETTO:-0500
TZNAME:EST
DTSTART:20191103T060000
END:STANDARD
END:VTIMEZONE
BEGIN:VEVENT
DTSTART;VALUE=DATE:20190908
DTEND;VALUE=DATE:20190909
DTSTAMP:20210401T025008
CREATED:20190907T122122Z
LAST-MODIFIED:20190907T122158Z
UID:173027-1567900800-1567987199@www.patriotguard.org
SUMMARY:Stirlin Alan Forston
DESCRIPTION:Honor Mission\nStirlin Alan Forston\, Veteran\nUSA – Vietnam\nNacogdoches\, Texas – 09-08-19\n\n\n\nABOUT THE MISSION: \nMr Forston served 2 years active duty\, 1 tour in Vietnam then served in the reserves.  He was awarded the Vietnam Campaign medal with Device\, Marksman award (rifle) Army Commendation Award.\n\n\nPRIMARY STAGING DETAILS: 09-08-19 \nStaging: 10:00 AM\n \nSid Roberts Funeral Home\n3535 SE Stallings Dr.\nNacogdoches\, Texas 75961\nhttps://tinyurl.com/yyzd5bxl\n\n\nRide Captain: \nRodney Ray\n936-553-4761\nrray75935@yahoo.com\n\n\nSpecial Instructions: \nStaging: 10:00 AM to 10:45 AM\nBriefing: 10:45 AM\nService: 12:00 PM\, Barnes Cemetery off CR 831 Cushing\, TX.  Directions to the cemetery will be given by the Ride Captain.  BIG FLAG BIKES REQUESTED\, Please remain flexible as to the requirements of the mission.(SEMPER GUMBY)\n\n\nFlags & Water:\nFlags will be provided\nIf you have large bike flags\, please bring them.\nWater will be provided.\n\nSubmitted By: Michael Eubank \nPosition: Texas Deputy State Captain \n\nNote: You do not have to own/ride a motorcycle or be a veteran to join\, and membership is Free. The only requirement is RESPECT! To subscribe to receive mission notices\, log into the National Site and click on the Members tab at the top. Select the Subscribe to PGR Missions option.\n Print This Page
URL:https://www.patriotguard.org/mission/stirlin-alan-forston/
CATEGORIES:Honor Mission
END:VEVENT
END:VCALENDAR